View In:
ArcGIS JavaScript
ArcGIS Online map viewer
ArcGIS Earth
ArcMap
View Footprint In:
ArcGIS Online map viewer
Service Description: In March 2016, Quantum Spatial (QSI) was contracted by the United States Geological Survey (USGS), in collaboration with the Washington Department of Natural Resources (WADNR), to collect Light Detection and Ranging (LiDAR) data for the Western Washington 3DEP QL1 LiDAR project site in the state of Washington. The Western Washington 3DEP LiDAR project area covers approximately 3.5 million acres within portions of thirteen counties in the state of Washington; Whatcom, Skagit, Snohomish, Thurston, Lewis, Clark, Cowlitz, Wahkiakum, Skamania, and Grays Harbor. Data were collected to aid USGS in assessing the topographic and geophysical properties of the study area.
For the Western Washington 3DEP LiDAR project, the monument coordinates contributed no more than the listed positional error to the geolocation of the final ground survey points and LiDAR, with 95% confidence.
Upon completion of data acquisition, QSI processing staff initiated a suite of automated and manual techniques to process the data into the requested deliverables. Processing tasks included GPS control computations, smoothed best estimate trajectory (SBET) calculations, kinematic corrections, calculation of laser point position, sensor and data calibration for optimal relative and absolute accuracy, and LiDAR point classification (Table 9). Processing methodologies were tailored for the landscape.
Name: LiDAR/FirstReturnDSM2017_DNR
Description: In March 2016, Quantum Spatial (QSI) was contracted by the United States Geological Survey (USGS), in collaboration with the Washington Department of Natural Resources (WADNR), to collect Light Detection and Ranging (LiDAR) data for the Western Washington 3DEP QL1 LiDAR project site in the state of Washington. The Western Washington 3DEP LiDAR project area covers approximately 3.5 million acres within portions of thirteen counties in the state of Washington; Whatcom, Skagit, Snohomish, Thurston, Lewis, Clark, Cowlitz, Wahkiakum, Skamania, and Grays Harbor. Data were collected to aid USGS in assessing the topographic and geophysical properties of the study area.
For the Western Washington 3DEP LiDAR project, the monument coordinates contributed no more than the listed positional error to the geolocation of the final ground survey points and LiDAR, with 95% confidence.
Upon completion of data acquisition, QSI processing staff initiated a suite of automated and manual techniques to process the data into the requested deliverables. Processing tasks included GPS control computations, smoothed best estimate trajectory (SBET) calculations, kinematic corrections, calculation of laser point position, sensor and data calibration for optimal relative and absolute accuracy, and LiDAR point classification (Table 9). Processing methodologies were tailored for the landscape.
Single Fused Map Cache: false
Extent:
XMin: 950888.6460963935
YMin: 522121.87119181687
XMax: 1171253.6460963935
YMax: 686017.8711918169
Spatial Reference: 102749
(2286)
Initial Extent:
XMin: 950888.6460963935
YMin: 522121.87119181687
XMax: 1171253.6460963935
YMax: 686017.8711918169
Spatial Reference: 102749
(2286)
Full Extent:
XMin: 950888.6460963935
YMin: 522121.87119181687
XMax: 1171253.6460963935
YMax: 686017.8711918169
Spatial Reference: 102749
(2286)
Pixel Size X: 3.0
Pixel Size Y: 3.0
Band Count: 1
Pixel Type: F32
RasterFunction Infos: {"rasterFunctionInfos": [{
"name": "None",
"description": "A No-Op Function.",
"help": ""
}]}
Mensuration Capabilities: None
Has Histograms: true
Has Colormap: false
Has Multi Dimensions : false
Rendering Rule:
Min Scale: 0
Max Scale: 0
Copyright Text: Washington Department of Natural Resources (WADNR), United States Geological Survey (USGS), Quantum Spatial (QSI)
Service Data Type: esriImageServiceDataTypeGeneric
Min Values: -3.119999885559082
Max Values: 2535.030029296875
Mean Values: 467.4305134592985
Standard Deviation Values: 357.3480957577439
Object ID Field: OBJECTID
Fields:
-
OBJECTID
(
type: esriFieldTypeOID, alias: OBJECTID
)
-
Shape
(
type: esriFieldTypeGeometry, alias: Shape
)
-
Name
(
type: esriFieldTypeString, alias: Name, length: 200
)
-
MinPS
(
type: esriFieldTypeDouble, alias: MinPS
)
-
MaxPS
(
type: esriFieldTypeDouble, alias: MaxPS
)
-
LowPS
(
type: esriFieldTypeDouble, alias: LowPS
)
-
HighPS
(
type: esriFieldTypeDouble, alias: HighPS
)
-
Category
(
type: esriFieldTypeInteger, alias: Category
, Coded Values:
[0: Unknown]
, [1: Primary]
, [2: Overview]
, ...6 more...
)
-
Tag
(
type: esriFieldTypeString, alias: Tag, length: 100
)
-
GroupName
(
type: esriFieldTypeString, alias: GroupName, length: 100
)
-
ProductName
(
type: esriFieldTypeString, alias: ProductName, length: 100
)
-
CenterX
(
type: esriFieldTypeDouble, alias: CenterX
)
-
CenterY
(
type: esriFieldTypeDouble, alias: CenterY
)
-
ZOrder
(
type: esriFieldTypeInteger, alias: ZOrder
)
-
Shape_Length
(
type: esriFieldTypeDouble, alias: Shape_Length
)
-
Shape_Area
(
type: esriFieldTypeDouble, alias: Shape_Area
)
Default Mosaic Method: Northwest
Allowed Mosaic Methods: NorthWest,Center,LockRaster,ByAttribute,Nadir,Viewpoint,Seamline,None
SortField:
SortValue: null
Mosaic Operator: First
Default Compression Quality: 100
Default Resampling Method: Bilinear
Max Record Count: 1000
Max Image Height: 4100
Max Image Width: 15000
Max Download Image Count: 20
Max Mosaic Image Count: 20
Allow Raster Function: true
Allow Copy: null
Allow Analysis: null
Allow Compute TiePoints: false
Supports Statistics: true
Supports Advanced Queries: true
Use StandardizedQueries: true
Raster Type Infos:
Name: Raster Dataset
Description: Supports all ArcGIS Raster Datasets
Help:
Has Raster Attribute Table: false
Edit Fields Info: null
Ownership Based AccessControl For Rasters: null
Child Resources:
Info
Histograms
Key Properties
Legend
Raster Function Infos
Supported Operations:
Export Image
Query
Identify
Compute Histograms
Compute Statistics Histograms
Get Samples
Compute Class Statistics
Query Boundary
Compute Pixel Location
Validate
Project