{ "currentVersion": 10.81, "serviceDescription": "
In March 2016, Quantum Spatial (QSI) was contracted by the United States Geological Survey <\/span><\/span>(USGS), in collaboration with the Washington Department of Natural Resources (WADNR), <\/span><\/span>to collect Light Detection and Ranging (LiDAR) data for the Western Washington 3DEP QL1 LiDAR project site in the state of Washington. The Western Washington 3DEP LiDAR project area covers approximately 3.5 million acres within portions of thirteen counties in the state of Washington; Whatcom, Skagit, Snohomish, Thurston, Lewis, Clark, Cowlitz, Wahkiakum, Skamania, and Grays Harbor. Data were collected to aid USGS in assessing the topographic and geophysical properties of the study area. <\/span><\/span><\/p> For the Western Washington 3DEP LiDAR project, the monument coordinates contributed no more than the listed positional error to the geolocation of the final ground survey points and LiDAR, with 95% confidence.<\/span><\/span><\/p> Upon completion of data acquisition, QSI processing staff initiated a suite of automated and manual techniques to process the data into the requested deliverables. Processing tasks included GPS control computations, smoothed best estimate trajectory (SBET) calculations, kinematic corrections, calculation of laser point position, sensor and data calibration for optimal relative and absolute accuracy, and LiDAR point classification (Table 9). Processing methodologies were tailored for the landscape.<\/span><\/span><\/p><\/div><\/div><\/div>",
"name": "LiDAR/FirstReturnDSM2017_DNR",
"description": " In March 2016, Quantum Spatial (QSI) was contracted by the United States Geological Survey <\/span><\/span>(USGS), in collaboration with the Washington Department of Natural Resources (WADNR), <\/span><\/span>to collect Light Detection and Ranging (LiDAR) data for the Western Washington 3DEP QL1 LiDAR project site in the state of Washington. The Western Washington 3DEP LiDAR project area covers approximately 3.5 million acres within portions of thirteen counties in the state of Washington; Whatcom, Skagit, Snohomish, Thurston, Lewis, Clark, Cowlitz, Wahkiakum, Skamania, and Grays Harbor. Data were collected to aid USGS in assessing the topographic and geophysical properties of the study area. <\/span><\/span><\/p> For the Western Washington 3DEP LiDAR project, the monument coordinates contributed no more than the listed positional error to the geolocation of the final ground survey points and LiDAR, with 95% confidence.<\/span><\/span><\/p> Upon completion of data acquisition, QSI processing staff initiated a suite of automated and manual techniques to process the data into the requested deliverables. Processing tasks included GPS control computations, smoothed best estimate trajectory (SBET) calculations, kinematic corrections, calculation of laser point position, sensor and data calibration for optimal relative and absolute accuracy, and LiDAR point classification (Table 9). Processing methodologies were tailored for the landscape.<\/span><\/span><\/p><\/div><\/div><\/div>",
"extent": {
"xmin": 950888.6460963935,
"ymin": 522121.87119181687,
"xmax": 1171253.6460963935,
"ymax": 686017.8711918169,
"spatialReference": {
"wkid": 102749,
"latestWkid": 2286
}
},
"initialExtent": {
"xmin": 950888.6460963935,
"ymin": 522121.87119181687,
"xmax": 1171253.6460963935,
"ymax": 686017.8711918169,
"spatialReference": {
"wkid": 102749,
"latestWkid": 2286
}
},
"fullExtent": {
"xmin": 950888.6460963935,
"ymin": 522121.87119181687,
"xmax": 1171253.6460963935,
"ymax": 686017.8711918169,
"spatialReference": {
"wkid": 102749,
"latestWkid": 2286
}
},
"pixelSizeX": 3,
"pixelSizeY": 3,
"bandCount": 1,
"pixelType": "F32",
"minPixelSize": 0,
"maxPixelSize": 0,
"copyrightText": "Washington Department of Natural Resources (WADNR), United States Geological Survey (USGS), Quantum Spatial (QSI)",
"serviceDataType": "esriImageServiceDataTypeGeneric",
"minValues": [
-3.119999885559082
],
"maxValues": [
2535.030029296875
],
"meanValues": [
467.4305134592985
],
"stdvValues": [
357.3480957577439
],
"objectIdField": "OBJECTID",
"fields": [
{
"name": "OBJECTID",
"type": "esriFieldTypeOID",
"alias": "OBJECTID",
"domain": null
},
{
"name": "Shape",
"type": "esriFieldTypeGeometry",
"alias": "Shape",
"domain": null
},
{
"name": "Name",
"type": "esriFieldTypeString",
"alias": "Name",
"domain": null,
"length": 200
},
{
"name": "MinPS",
"type": "esriFieldTypeDouble",
"alias": "MinPS",
"domain": null
},
{
"name": "MaxPS",
"type": "esriFieldTypeDouble",
"alias": "MaxPS",
"domain": null
},
{
"name": "LowPS",
"type": "esriFieldTypeDouble",
"alias": "LowPS",
"domain": null
},
{
"name": "HighPS",
"type": "esriFieldTypeDouble",
"alias": "HighPS",
"domain": null
},
{
"name": "Category",
"type": "esriFieldTypeInteger",
"alias": "Category",
"domain": {
"type": "codedValue",
"name": "MosaicCatalogItemCategoryDomain",
"description": "Catalog item categories.",
"codedValues": [
{
"name": "Unknown",
"code": 0
},
{
"name": "Primary",
"code": 1
},
{
"name": "Overview",
"code": 2
},
{
"name": "Unprocessed Overview",
"code": 3
},
{
"name": "Partial Overview",
"code": 4
},
{
"name": "Inactive",
"code": 5
},
{
"name": "Uploaded",
"code": 253
},
{
"name": "Incomplete",
"code": 254
},
{
"name": "Custom",
"code": 255
}
],
"mergePolicy": "esriMPTDefaultValue",
"splitPolicy": "esriSPTDefaultValue"
}
},
{
"name": "Tag",
"type": "esriFieldTypeString",
"alias": "Tag",
"domain": null,
"length": 100
},
{
"name": "GroupName",
"type": "esriFieldTypeString",
"alias": "GroupName",
"domain": null,
"length": 100
},
{
"name": "ProductName",
"type": "esriFieldTypeString",
"alias": "ProductName",
"domain": null,
"length": 100
},
{
"name": "CenterX",
"type": "esriFieldTypeDouble",
"alias": "CenterX",
"domain": null
},
{
"name": "CenterY",
"type": "esriFieldTypeDouble",
"alias": "CenterY",
"domain": null
},
{
"name": "ZOrder",
"type": "esriFieldTypeInteger",
"alias": "ZOrder",
"domain": null
},
{
"name": "Shape_Length",
"type": "esriFieldTypeDouble",
"alias": "Shape_Length",
"domain": null
},
{
"name": "Shape_Area",
"type": "esriFieldTypeDouble",
"alias": "Shape_Area",
"domain": null
}
],
"capabilities": "Catalog,Image,Metadata",
"defaultMosaicMethod": "Northwest",
"allowedMosaicMethods": "NorthWest,Center,LockRaster,ByAttribute,Nadir,Viewpoint,Seamline,None",
"sortField": "",
"sortValue": null,
"sortAscending": true,
"mosaicOperator": "First",
"maxDownloadSizeLimit": 2048,
"defaultCompressionQuality": 100,
"defaultResamplingMethod": "Bilinear",
"maxImageHeight": 4100,
"maxImageWidth": 15000,
"maxRecordCount": 1000,
"maxDownloadImageCount": 20,
"maxMosaicImageCount": 20,
"allowRasterFunction": true,
"rasterFunctionInfos": [
{
"name": "None",
"description": "A No-Op Function.",
"help": ""
}
],
"rasterTypeInfos": [
{
"name": "Raster Dataset",
"description": "Supports all ArcGIS Raster Datasets",
"help": ""
}
],
"mensurationCapabilities": "None",
"hasHistograms": true,
"hasColormap": false,
"hasRasterAttributeTable": false,
"minScale": 0,
"maxScale": 0,
"exportTilesAllowed": false,
"hasMultidimensions": false,
"supportsStatistics": true,
"supportsAdvancedQueries": true,
"editFieldsInfo": null,
"ownershipBasedAccessControlForRasters": null,
"allowComputeTiePoints": false,
"useStandardizedQueries": true,
"advancedQueryCapabilities": {
"useStandardizedQueries": true,
"supportsStatistics": true,
"supportsOrderBy": true,
"supportsDistinct": true,
"supportsPagination": true
},
"spatialReference": {
"wkid": 102749,
"latestWkid": 2286
}
}