View In:
ArcGIS JavaScript
ArcGIS Online map viewer
ArcGIS Earth
ArcMap
View Footprint In:
ArcGIS Online map viewer
Service Description: Digital aerial imagery for Washington state was collected by Hexagon as part of the 2021 NAIP Imaging Program. Imagery was collected between June 25, 2021 and November 11, 2021 using Leica ADS100 digital camera systems. The project was flown at heights ranging from 19,500 ft msl to 24,000 ft msl resulting in a nominal GSD of 25cm. Four band images were collected to support both 3-band natural color (RGB) and false color infrared (FCIR) orthoimage products. Aerotriangulation and orthorectification were done with the Leica Xpro software package, version 6.4 and ortho mosaics were created with Inpho Orthovista 8.0. 4-band RGBN 8-bit Ortho images were created in a DOQQ tiling scheme. Products are in the UTM map projection, NAD83 (2011) datum, in meters.
Time_period_of_content: June 25, 2021 to November 11, 2021
Name: Aerial/Photos2021_WaTech
Description: Digital aerial imagery for Washington state was collected by Hexagon as part of the 2021 NAIP Imaging Program. Imagery was collected between June 25, 2021 and November 11, 2021 using Leica ADS100 digital camera systems. The project was flown at heights ranging from 19,500 ft msl to 24,000 ft msl resulting in a nominal GSD of 25cm. Four band images were collected to support both 3-band natural color (RGB) and false color infrared (FCIR) orthoimage products. Aerotriangulation and orthorectification were done with the Leica Xpro software package, version 6.4 and ortho mosaics were created with Inpho Orthovista 8.0. 4-band RGBN 8-bit Ortho images were created in a DOQQ tiling scheme. Products are in the UTM map projection, NAD83 (2011) datum, in meters.
Time_period_of_content: June 25, 2021 to November 11, 2021
Single Fused Map Cache: false
Extent:
XMin: 963691
YMin: 523143
XMax: 1217653
YMax: 691089
Spatial Reference: 102749
(2286)
Initial Extent:
XMin: 963691
YMin: 523143
XMax: 1217653
YMax: 691089
Spatial Reference: 102749
(2286)
Full Extent:
XMin: 963691
YMin: 523143
XMax: 1217653
YMax: 691089
Spatial Reference: 102749
(2286)
Pixel Size X: 0.5
Pixel Size Y: 0.5
Band Count: 3
Pixel Type: U8
RasterFunction Infos: {"rasterFunctionInfos": [{
"name": "None",
"description": "A No-Op Function.",
"help": ""
}]}
Mensuration Capabilities: None
Has Histograms: true
Has Colormap: false
Has Multi Dimensions : false
Rendering Rule:
Min Scale: 0
Max Scale: 0
Copyright Text: HxGN Content Program
Service Data Type: esriImageServiceDataTypeRGB
Min Values: 0, 0, 0
Max Values: 255, 255, 255
Mean Values: 60.148907038936294, 75.43582223047265, 58.48614633150101
Standard Deviation Values: 37.53413729840499, 33.96580057622104, 26.21746857449858
Object ID Field: OBJECTID
Fields:
-
OBJECTID
(
type: esriFieldTypeOID, alias: OBJECTID
)
-
Shape
(
type: esriFieldTypeGeometry, alias: Shape
)
-
Name
(
type: esriFieldTypeString, alias: Name, length: 200
)
-
Category
(
type: esriFieldTypeInteger, alias: Category
, Coded Values:
[0: Unknown]
, [1: Primary]
, [2: Overview]
, ...6 more...
)
-
CenterX
(
type: esriFieldTypeDouble, alias: CenterX
)
-
CenterY
(
type: esriFieldTypeDouble, alias: CenterY
)
Default Mosaic Method: Northwest
Allowed Mosaic Methods: NorthWest,Center,LockRaster,ByAttribute,Nadir,Viewpoint,Seamline,None
SortField:
SortValue: null
Mosaic Operator: First
Default Compression Quality: 75
Default Resampling Method: Bicubic
Max Record Count: 1000
Max Image Height: 4100
Max Image Width: 15000
Max Download Image Count: 20
Max Mosaic Image Count: 20
Allow Raster Function: true
Allow Copy: null
Allow Analysis: null
Allow Compute TiePoints: false
Supports Statistics: true
Supports Advanced Queries: true
Use StandardizedQueries: true
Raster Type Infos:
Name: Raster Dataset
Description: Supports all ArcGIS Raster Datasets
Help:
Has Raster Attribute Table: false
Edit Fields Info: null
Ownership Based AccessControl For Rasters: null
Child Resources:
Info
Histograms
Key Properties
Legend
Raster Function Infos
Supported Operations:
Export Image
Query
Identify
Compute Histograms
Compute Statistics Histograms
Get Samples
Compute Class Statistics
Query Boundary
Compute Pixel Location
Validate
Project