{
 "currentVersion": 10.81,
 "serviceDescription": "<DIV STYLE=\"text-align:Left;\"><P STYLE=\"margin:0 0 0 24;\"><SPAN><SPAN>Digital aerial imagery for Washington state was collected by Hexagon as part of the 2021 NAIP Imaging Program. Imagery was collected between June 25, 2021 and November 11, 2021 using Leica ADS100 digital camera systems. The project was flown at heights ranging from 19,500 ft msl to 24,000 ft msl resulting in a nominal GSD of 25cm. Four band images were collected to support both 3-band natural color (RGB) and false color infrared (FCIR) orthoimage products. Aerotriangulation and orthorectification were done with the Leica Xpro software package, version 6.4 and ortho mosaics were created with Inpho Orthovista 8.0. 4-band RGBN 8-bit Ortho images were created in a DOQQ tiling scheme. Products are in the UTM map projection, NAD83 (2011) datum, in meters.<\/SPAN><\/SPAN><\/P><P /><P STYLE=\"margin:0 0 0 24;\"><SPAN><SPAN>Time_period_of_content: June 25, 2021 to November 11, 2021<\/SPAN><\/SPAN><\/P><DIV><DIV><P><SPAN /><\/P><\/DIV><\/DIV><\/DIV>",
 "name": "Aerial/Photos2021_WaTech",
 "description": "<DIV STYLE=\"text-align:Left;\"><P STYLE=\"margin:0 0 0 24;\"><SPAN><SPAN>Digital aerial imagery for Washington state was collected by Hexagon as part of the 2021 NAIP Imaging Program. Imagery was collected between June 25, 2021 and November 11, 2021 using Leica ADS100 digital camera systems. The project was flown at heights ranging from 19,500 ft msl to 24,000 ft msl resulting in a nominal GSD of 25cm. Four band images were collected to support both 3-band natural color (RGB) and false color infrared (FCIR) orthoimage products. Aerotriangulation and orthorectification were done with the Leica Xpro software package, version 6.4 and ortho mosaics were created with Inpho Orthovista 8.0. 4-band RGBN 8-bit Ortho images were created in a DOQQ tiling scheme. Products are in the UTM map projection, NAD83 (2011) datum, in meters.<\/SPAN><\/SPAN><\/P><P /><P STYLE=\"margin:0 0 0 24;\"><SPAN><SPAN>Time_period_of_content: June 25, 2021 to November 11, 2021<\/SPAN><\/SPAN><\/P><DIV><DIV><P><SPAN /><\/P><\/DIV><\/DIV><\/DIV>",
 "extent": {
  "xmin": 963691,
  "ymin": 523143,
  "xmax": 1217653,
  "ymax": 691089,
  "spatialReference": {
   "wkid": 102749,
   "latestWkid": 2286
  }
 },
 "initialExtent": {
  "xmin": 963691,
  "ymin": 523143,
  "xmax": 1217653,
  "ymax": 691089,
  "spatialReference": {
   "wkid": 102749,
   "latestWkid": 2286
  }
 },
 "fullExtent": {
  "xmin": 963691,
  "ymin": 523143,
  "xmax": 1217653,
  "ymax": 691089,
  "spatialReference": {
   "wkid": 102749,
   "latestWkid": 2286
  }
 },
 "pixelSizeX": 0.5,
 "pixelSizeY": 0.5,
 "bandCount": 3,
 "pixelType": "U8",
 "minPixelSize": 0,
 "maxPixelSize": 0,
 "copyrightText": "HxGN Content Program",
 "serviceDataType": "esriImageServiceDataTypeRGB",
 "minValues": [
  0,
  0,
  0
 ],
 "maxValues": [
  255,
  255,
  255
 ],
 "meanValues": [
  60.148907038936294,
  75.43582223047265,
  58.48614633150101
 ],
 "stdvValues": [
  37.53413729840499,
  33.96580057622104,
  26.21746857449858
 ],
 "objectIdField": "OBJECTID",
 "fields": [
  {
   "name": "OBJECTID",
   "type": "esriFieldTypeOID",
   "alias": "OBJECTID",
   "domain": null
  },
  {
   "name": "Shape",
   "type": "esriFieldTypeGeometry",
   "alias": "Shape",
   "domain": null
  },
  {
   "name": "Name",
   "type": "esriFieldTypeString",
   "alias": "Name",
   "domain": null,
   "length": 200
  },
  {
   "name": "Category",
   "type": "esriFieldTypeInteger",
   "alias": "Category",
   "domain": {
    "type": "codedValue",
    "name": "MosaicCatalogItemCategoryDomain",
    "description": "Catalog item categories.",
    "codedValues": [
     {
      "name": "Unknown",
      "code": 0
     },
     {
      "name": "Primary",
      "code": 1
     },
     {
      "name": "Overview",
      "code": 2
     },
     {
      "name": "Unprocessed Overview",
      "code": 3
     },
     {
      "name": "Partial Overview",
      "code": 4
     },
     {
      "name": "Inactive",
      "code": 5
     },
     {
      "name": "Uploaded",
      "code": 253
     },
     {
      "name": "Incomplete",
      "code": 254
     },
     {
      "name": "Custom",
      "code": 255
     }
    ],
    "mergePolicy": "esriMPTDefaultValue",
    "splitPolicy": "esriSPTDefaultValue"
   }
  },
  {
   "name": "CenterX",
   "type": "esriFieldTypeDouble",
   "alias": "CenterX",
   "domain": null
  },
  {
   "name": "CenterY",
   "type": "esriFieldTypeDouble",
   "alias": "CenterY",
   "domain": null
  }
 ],
 "capabilities": "Image,Metadata,Catalog",
 "defaultMosaicMethod": "Northwest",
 "allowedMosaicMethods": "NorthWest,Center,LockRaster,ByAttribute,Nadir,Viewpoint,Seamline,None",
 "sortField": "",
 "sortValue": null,
 "sortAscending": true,
 "mosaicOperator": "First",
 "maxDownloadSizeLimit": 2048,
 "defaultCompressionQuality": 75,
 "defaultResamplingMethod": "Bicubic",
 "maxImageHeight": 4100,
 "maxImageWidth": 15000,
 "maxRecordCount": 1000,
 "maxDownloadImageCount": 20,
 "maxMosaicImageCount": 20,
 "allowRasterFunction": true,
 "rasterFunctionInfos": [
  {
   "name": "None",
   "description": "A No-Op Function.",
   "help": ""
  }
 ],
 "rasterTypeInfos": [
  {
   "name": "Raster Dataset",
   "description": "Supports all ArcGIS Raster Datasets",
   "help": ""
  }
 ],
 "mensurationCapabilities": "None",
 "hasHistograms": true,
 "hasColormap": false,
 "hasRasterAttributeTable": false,
 "minScale": 0,
 "maxScale": 0,
 "exportTilesAllowed": false,
 "hasMultidimensions": false,
 "supportsStatistics": true,
 "supportsAdvancedQueries": true,
 "editFieldsInfo": null,
 "ownershipBasedAccessControlForRasters": null,
 "allowComputeTiePoints": false,
 "useStandardizedQueries": true,
 "advancedQueryCapabilities": {
  "useStandardizedQueries": true,
  "supportsStatistics": true,
  "supportsOrderBy": true,
  "supportsDistinct": true,
  "supportsPagination": true
 },
 "spatialReference": {
  "wkid": 102749,
  "latestWkid": 2286
 }
}
