View In:
  ArcGIS JavaScript
  ArcGIS Online map viewer
  ArcGIS Earth
  ArcMap
View Footprint In:
  ArcGIS Online map viewer
Service Description:  Digitial aerial imagery for Washington state was collected by North West Geomatics Ltd as part of the 2017 NAIPImaging Program. Imagery was collected between July 8, 2017 and October 29, 2017 using Leica ADS100 digitalcamera systems. The project was flown at heights ranging from 16,500 ft msl to 21,500 ft msl resulting in a nominalGSD of 30cm. Four band images were collected to support both 3-band natural color (RGB) and false color infrared(FCIR) orthoimage products. Aerotriangulation and orthorectification were done with the Leica Xpro software package,version 6.3 and ortho mosaics were created with Inpho Orthovista 7.0. 4-band RGBN 8-bit Ortho images were createdin a DOQQ tiling scheme. Products are in the UTM map projection, NAD83 (HARN) datum, in meters. The data wasreprojected by Washington Department of Natural Resources into Stateplane South/ North HARN and non-HARNdependinig on county requests.Date stamps for Thurston County flights are 07/31/17, 09/01/17
 
Name:  Aerial/Photos2017_WaTech
Description:  Digitial aerial imagery for Washington state was collected by North West Geomatics Ltd as part of the 2017 NAIPImaging Program. Imagery was collected between July 8, 2017 and October 29, 2017 using Leica ADS100 digitalcamera systems. The project was flown at heights ranging from 16,500 ft msl to 21,500 ft msl resulting in a nominalGSD of 30cm. Four band images were collected to support both 3-band natural color (RGB) and false color infrared(FCIR) orthoimage products. Aerotriangulation and orthorectification were done with the Leica Xpro software package,version 6.3 and ortho mosaics were created with Inpho Orthovista 7.0. 4-band RGBN 8-bit Ortho images were createdin a DOQQ tiling scheme. Products are in the UTM map projection, NAD83 (HARN) datum, in meters. The data wasreprojected by Washington Department of Natural Resources into Stateplane South/ North HARN and non-HARNdependinig on county requests.Date stamps for Thurston County flights are 07/31/17, 09/01/17
 
Single Fused Map Cache:  false
Extent: 
XMin: 965966
YMin: 525717
XMax: 1216599
YMax: 690130
Spatial Reference: 102749
 (2286)
Initial Extent: 
XMin: 965966
YMin: 525717
XMax: 1216599
YMax: 690130
Spatial Reference: 102749
 (2286)
Full Extent: 
XMin: 965966
YMin: 525717
XMax: 1216599
YMax: 690130
Spatial Reference: 102749
 (2286)
Pixel Size X:  1.0
Pixel Size Y:  1.0
Band Count: 3
Pixel Type: U8
RasterFunction Infos:  {"rasterFunctionInfos": [{
 "name": "None",
 "description": "",
 "help": ""
}]}
Mensuration Capabilities: Basic
Has Histograms:  true
Has Colormap:  false
Has Multi Dimensions :  false
Rendering Rule: 
Min Scale:  0
Max Scale:  0
Copyright Text:  Northwest Geomatics, LTD
Service Data Type:  esriImageServiceDataTypeRGB
Min Values:  0, 0, 0
Max Values:  254, 254, 248
Mean Values:  51.250175193471016, 68.72965941522673, 68.2797734128355
Standard Deviation Values:  37.1539298654591, 35.53221586066578, 21.037827672871966
Object ID Field:  OBJECTID
Fields: 
- 
OBJECTID
(
type: esriFieldTypeOID, alias: OBJECTID
)
 
- 
Shape
(
type: esriFieldTypeGeometry, alias: Shape
)
 
- 
Name
(
type: esriFieldTypeString, alias: Name, length: 200
)
 
- 
MinPS
(
type: esriFieldTypeDouble, alias: MinPS
)
 
- 
MaxPS
(
type: esriFieldTypeDouble, alias: MaxPS
)
 
- 
LowPS
(
type: esriFieldTypeDouble, alias: LowPS
)
 
- 
HighPS
(
type: esriFieldTypeDouble, alias: HighPS
)
 
- 
Category
(
type: esriFieldTypeInteger, alias: Category
, Coded Values: 
[0: Unknown]
, [1: Primary]
, [2: Overview]
, ...6 more...
)
 
- 
Tag
(
type: esriFieldTypeString, alias: Tag, length: 100
)
 
- 
GroupName
(
type: esriFieldTypeString, alias: GroupName, length: 100
)
 
- 
ProductName
(
type: esriFieldTypeString, alias: ProductName, length: 100
)
 
- 
CenterX
(
type: esriFieldTypeDouble, alias: CenterX
)
 
- 
CenterY
(
type: esriFieldTypeDouble, alias: CenterY
)
 
- 
ZOrder
(
type: esriFieldTypeInteger, alias: ZOrder
)
 
- 
Shape_Length
(
type: esriFieldTypeDouble, alias: Shape_Length
)
 
- 
Shape_Area
(
type: esriFieldTypeDouble, alias: Shape_Area
)
 
Default Mosaic Method:  Northwest
Allowed Mosaic Methods:  NorthWest,Center,LockRaster,ByAttribute,Nadir,Viewpoint,Seamline,None
SortField:  
SortValue:  null
Mosaic Operator:  First
Default Compression Quality:  100
Default Resampling Method:  Bilinear
Max Record Count:  1000
Max Image Height:  4100
Max Image Width:  15000
Max Download Image Count:  20
Max Mosaic Image Count:  20
Allow Raster Function:  true
Allow Copy:  null
Allow Analysis:  null
Allow Compute TiePoints:  false
Supports Statistics:  true
Supports Advanced Queries:  true
Use StandardizedQueries:  true
Raster Type Infos: 
Name: Raster Dataset
Description: Supports all ArcGIS Raster Datasets
Help: 
Has Raster Attribute Table:  false
Edit Fields Info:  null
Ownership Based AccessControl For Rasters:  null
Child Resources:
  
Info
  Histograms
  Key Properties
  Legend
  Raster Function Infos
Supported Operations:
  
Export Image
  Query
  Identify
  Measure
  Compute Histograms
  Compute Statistics Histograms
  Get Samples
  Compute Class Statistics
  Query Boundary
  Compute Pixel Location
  Validate
  Project