{ "currentVersion": 10.81, "serviceDescription": "
Digitial aerial imagery for Washington state was collected by North West Geomatics Ltd as part of the 2017 NAIPImaging Program. Imagery was collected between July 8, 2017 and October 29, 2017 using Leica ADS100 digitalcamera systems. The project was flown at heights ranging from 16,500 ft msl to 21,500 ft msl resulting in a nominalGSD of 30cm. Four band images were collected to support both 3-band natural color (RGB) and false color infrared(FCIR) orthoimage products. Aerotriangulation and orthorectification were done with the Leica Xpro software package,version 6.3 and ortho mosaics were created with Inpho Orthovista 7.0. 4-band RGBN 8-bit Ortho images were createdin a DOQQ tiling scheme. Products are in the UTM map projection, NAD83 (HARN) datum, in meters. The data wasreprojected by Washington Department of Natural Resources into Stateplane South/ North HARN and non-HARNdependinig on county requests.Date stamps for Thurston County flights are 07/31/17, 09/01/17<\/span><\/p><\/div><\/div>",
"name": "Aerial/Photos2017_WaTech",
"description": " Digitial aerial imagery for Washington state was collected by North West Geomatics Ltd as part of the 2017 NAIPImaging Program. Imagery was collected between July 8, 2017 and October 29, 2017 using Leica ADS100 digitalcamera systems. The project was flown at heights ranging from 16,500 ft msl to 21,500 ft msl resulting in a nominalGSD of 30cm. Four band images were collected to support both 3-band natural color (RGB) and false color infrared(FCIR) orthoimage products. Aerotriangulation and orthorectification were done with the Leica Xpro software package,version 6.3 and ortho mosaics were created with Inpho Orthovista 7.0. 4-band RGBN 8-bit Ortho images were createdin a DOQQ tiling scheme. Products are in the UTM map projection, NAD83 (HARN) datum, in meters. The data wasreprojected by Washington Department of Natural Resources into Stateplane South/ North HARN and non-HARNdependinig on county requests.Date stamps for Thurston County flights are 07/31/17, 09/01/17<\/span><\/p><\/div><\/div>",
"extent": {
"xmin": 965966,
"ymin": 525717,
"xmax": 1216599,
"ymax": 690130,
"spatialReference": {
"wkid": 102749,
"latestWkid": 2286
}
},
"initialExtent": {
"xmin": 965966,
"ymin": 525717,
"xmax": 1216599,
"ymax": 690130,
"spatialReference": {
"wkid": 102749,
"latestWkid": 2286
}
},
"fullExtent": {
"xmin": 965966,
"ymin": 525717,
"xmax": 1216599,
"ymax": 690130,
"spatialReference": {
"wkid": 102749,
"latestWkid": 2286
}
},
"pixelSizeX": 1,
"pixelSizeY": 1,
"bandCount": 3,
"pixelType": "U8",
"minPixelSize": 0,
"maxPixelSize": 0,
"copyrightText": "Northwest Geomatics, LTD",
"serviceDataType": "esriImageServiceDataTypeRGB",
"minValues": [
0,
0,
0
],
"maxValues": [
254,
254,
248
],
"meanValues": [
51.250175193471016,
68.72965941522673,
68.2797734128355
],
"stdvValues": [
37.1539298654591,
35.53221586066578,
21.037827672871966
],
"objectIdField": "OBJECTID",
"fields": [
{
"name": "OBJECTID",
"type": "esriFieldTypeOID",
"alias": "OBJECTID",
"domain": null
},
{
"name": "Shape",
"type": "esriFieldTypeGeometry",
"alias": "Shape",
"domain": null
},
{
"name": "Name",
"type": "esriFieldTypeString",
"alias": "Name",
"domain": null,
"length": 200
},
{
"name": "MinPS",
"type": "esriFieldTypeDouble",
"alias": "MinPS",
"domain": null
},
{
"name": "MaxPS",
"type": "esriFieldTypeDouble",
"alias": "MaxPS",
"domain": null
},
{
"name": "LowPS",
"type": "esriFieldTypeDouble",
"alias": "LowPS",
"domain": null
},
{
"name": "HighPS",
"type": "esriFieldTypeDouble",
"alias": "HighPS",
"domain": null
},
{
"name": "Category",
"type": "esriFieldTypeInteger",
"alias": "Category",
"domain": {
"type": "codedValue",
"name": "MosaicCatalogItemCategoryDomain",
"description": "Catalog item categories.",
"codedValues": [
{
"name": "Unknown",
"code": 0
},
{
"name": "Primary",
"code": 1
},
{
"name": "Overview",
"code": 2
},
{
"name": "Unprocessed Overview",
"code": 3
},
{
"name": "Partial Overview",
"code": 4
},
{
"name": "Inactive",
"code": 5
},
{
"name": "Uploaded",
"code": 253
},
{
"name": "Incomplete",
"code": 254
},
{
"name": "Custom",
"code": 255
}
],
"mergePolicy": "esriMPTDefaultValue",
"splitPolicy": "esriSPTDefaultValue"
}
},
{
"name": "Tag",
"type": "esriFieldTypeString",
"alias": "Tag",
"domain": null,
"length": 100
},
{
"name": "GroupName",
"type": "esriFieldTypeString",
"alias": "GroupName",
"domain": null,
"length": 100
},
{
"name": "ProductName",
"type": "esriFieldTypeString",
"alias": "ProductName",
"domain": null,
"length": 100
},
{
"name": "CenterX",
"type": "esriFieldTypeDouble",
"alias": "CenterX",
"domain": null
},
{
"name": "CenterY",
"type": "esriFieldTypeDouble",
"alias": "CenterY",
"domain": null
},
{
"name": "ZOrder",
"type": "esriFieldTypeInteger",
"alias": "ZOrder",
"domain": null
},
{
"name": "Shape_Length",
"type": "esriFieldTypeDouble",
"alias": "Shape_Length",
"domain": null
},
{
"name": "Shape_Area",
"type": "esriFieldTypeDouble",
"alias": "Shape_Area",
"domain": null
}
],
"capabilities": "Catalog,Mensuration,Image,Metadata",
"defaultMosaicMethod": "Northwest",
"allowedMosaicMethods": "NorthWest,Center,LockRaster,ByAttribute,Nadir,Viewpoint,Seamline,None",
"sortField": "",
"sortValue": null,
"sortAscending": true,
"mosaicOperator": "First",
"maxDownloadSizeLimit": 2048,
"defaultCompressionQuality": 100,
"defaultResamplingMethod": "Bilinear",
"maxImageHeight": 4100,
"maxImageWidth": 15000,
"maxRecordCount": 1000,
"maxDownloadImageCount": 20,
"maxMosaicImageCount": 20,
"allowRasterFunction": true,
"rasterFunctionInfos": [
{
"name": "None",
"description": "",
"help": ""
}
],
"rasterTypeInfos": [
{
"name": "Raster Dataset",
"description": "Supports all ArcGIS Raster Datasets",
"help": ""
}
],
"mensurationCapabilities": "Basic",
"hasHistograms": true,
"hasColormap": false,
"hasRasterAttributeTable": false,
"minScale": 0,
"maxScale": 0,
"exportTilesAllowed": false,
"hasMultidimensions": false,
"supportsStatistics": true,
"supportsAdvancedQueries": true,
"editFieldsInfo": null,
"ownershipBasedAccessControlForRasters": null,
"allowComputeTiePoints": false,
"useStandardizedQueries": true,
"advancedQueryCapabilities": {
"useStandardizedQueries": true,
"supportsStatistics": true,
"supportsOrderBy": true,
"supportsDistinct": true,
"supportsPagination": true
},
"spatialReference": {
"wkid": 102749,
"latestWkid": 2286
}
}