View In:
ArcGIS JavaScript
ArcGIS Online map viewer
ArcGIS Earth
ArcMap
View Footprint In:
ArcGIS Online map viewer
Service Description: Digitial aerial imagery for Washington state was collected by North West Geomatics Ltd as part of the 2016 NAIPImaging Program. Imagery was in 2016 Four band images were co lected to support both 3-band natural color (RGB) and false color infrared(FCIR) orthoimage products. Aerotriangulation and orthorectification were done with the Leica Xpro software package,version 6.3 and ortho mosaics were created with Inpho Orthovista 7.0. 4-band RGBN 8-bit Ortho images were createdin a DOQQ tiling scheme. Products are in the UTM map projection, NAD83 (HARN) datum, in meters. The data wasreprojected by Washington Department of Natural Resources into Stateplane South/ North HARN and non-HARNdependinig on county requests.
Name: Aerial/Photos2016_WaTech
Description: Digitial aerial imagery for Washington state was collected by North West Geomatics Ltd as part of the 2016 NAIPImaging Program. Imagery was in 2016 Four band images were co lected to support both 3-band natural color (RGB) and false color infrared(FCIR) orthoimage products. Aerotriangulation and orthorectification were done with the Leica Xpro software package,version 6.3 and ortho mosaics were created with Inpho Orthovista 7.0. 4-band RGBN 8-bit Ortho images were createdin a DOQQ tiling scheme. Products are in the UTM map projection, NAD83 (HARN) datum, in meters. The data wasreprojected by Washington Department of Natural Resources into Stateplane South/ North HARN and non-HARNdependinig on county requests.
Single Fused Map Cache: false
Extent:
XMin: 1007177
YMin: 577837
XMax: 1099042
YMax: 674313
Spatial Reference: 102749
(2286)
Initial Extent:
XMin: 1007177
YMin: 577837
XMax: 1099042
YMax: 674313
Spatial Reference: 102749
(2286)
Full Extent:
XMin: 1007177
YMin: 577837
XMax: 1099042
YMax: 674313
Spatial Reference: 102749
(2286)
Pixel Size X: 0.5
Pixel Size Y: 0.5
Band Count: 3
Pixel Type: U8
RasterFunction Infos: {"rasterFunctionInfos": [{
"name": "None",
"description": "A No-Op Function.",
"help": ""
}]}
Mensuration Capabilities: None
Has Histograms: true
Has Colormap: false
Has Multi Dimensions : false
Rendering Rule:
Min Scale: 0
Max Scale: 0
Copyright Text: Northwest Geomatics, LTD
Service Data Type: esriImageServiceDataTypeRGB
Min Values: 0, 0, 0
Max Values: 236, 228, 224
Mean Values: 6.833376413013565, 10.15639647091266, 8.319993710366706
Standard Deviation Values: 21.076999709147216, 28.33126477539783, 22.68308445211936
Object ID Field: OBJECTID
Fields:
-
OBJECTID
(
type: esriFieldTypeOID, alias: OBJECTID
)
-
Shape
(
type: esriFieldTypeGeometry, alias: Shape
)
-
Name
(
type: esriFieldTypeString, alias: Name, length: 200
)
-
Category
(
type: esriFieldTypeInteger, alias: Category
, Coded Values:
[0: Unknown]
, [1: Primary]
, [2: Overview]
, ...6 more...
)
-
CenterX
(
type: esriFieldTypeDouble, alias: CenterX
)
-
CenterY
(
type: esriFieldTypeDouble, alias: CenterY
)
Default Mosaic Method: Northwest
Allowed Mosaic Methods: NorthWest,Center,LockRaster,ByAttribute,Nadir,Viewpoint,Seamline,None
SortField:
SortValue: null
Mosaic Operator: First
Default Compression Quality: 100
Default Resampling Method: Bicubic
Max Record Count: 1000
Max Image Height: 4100
Max Image Width: 15000
Max Download Image Count: 20
Max Mosaic Image Count: 20
Allow Raster Function: true
Allow Copy: null
Allow Analysis: null
Allow Compute TiePoints: false
Supports Statistics: true
Supports Advanced Queries: true
Use StandardizedQueries: true
Raster Type Infos:
Name: Raster Dataset
Description: Supports all ArcGIS Raster Datasets
Help:
Has Raster Attribute Table: false
Edit Fields Info: null
Ownership Based AccessControl For Rasters: null
Child Resources:
Info
Histograms
Key Properties
Legend
Raster Function Infos
Supported Operations:
Export Image
Query
Identify
Compute Histograms
Compute Statistics Histograms
Get Samples
Compute Class Statistics
Query Boundary
Compute Pixel Location
Validate
Project