{ "currentVersion": 10.81, "serviceDescription": "
Digitial aerial imagery for Washington state was collected by North West Geomatics Ltd as part of the 2016 NAIPImaging Program. Imagery was in 2016 Four band images were co lected to support both 3-band natural color (RGB) and false color infrared(FCIR) orthoimage products. Aerotriangulation and orthorectification were done with the Leica Xpro software package,version 6.3 and ortho mosaics were created with Inpho Orthovista 7.0. 4-band RGBN 8-bit Ortho images were createdin a DOQQ tiling scheme. Products are in the UTM map projection, NAD83 (HARN) datum, in meters. The data wasreprojected by Washington Department of Natural Resources into Stateplane South/ North HARN and non-HARNdependinig on county requests.<\/span><\/p><\/div><\/div>",
"name": "Aerial/Photos2016_WaTech",
"description": " Digitial aerial imagery for Washington state was collected by North West Geomatics Ltd as part of the 2016 NAIPImaging Program. Imagery was in 2016 Four band images were co lected to support both 3-band natural color (RGB) and false color infrared(FCIR) orthoimage products. Aerotriangulation and orthorectification were done with the Leica Xpro software package,version 6.3 and ortho mosaics were created with Inpho Orthovista 7.0. 4-band RGBN 8-bit Ortho images were createdin a DOQQ tiling scheme. Products are in the UTM map projection, NAD83 (HARN) datum, in meters. The data wasreprojected by Washington Department of Natural Resources into Stateplane South/ North HARN and non-HARNdependinig on county requests.<\/span><\/p><\/div><\/div>",
"extent": {
"xmin": 1007177,
"ymin": 577837,
"xmax": 1099042,
"ymax": 674313,
"spatialReference": {
"wkid": 102749,
"latestWkid": 2286
}
},
"initialExtent": {
"xmin": 1007177,
"ymin": 577837,
"xmax": 1099042,
"ymax": 674313,
"spatialReference": {
"wkid": 102749,
"latestWkid": 2286
}
},
"fullExtent": {
"xmin": 1007177,
"ymin": 577837,
"xmax": 1099042,
"ymax": 674313,
"spatialReference": {
"wkid": 102749,
"latestWkid": 2286
}
},
"pixelSizeX": 0.5,
"pixelSizeY": 0.5,
"bandCount": 3,
"pixelType": "U8",
"minPixelSize": 0,
"maxPixelSize": 0,
"copyrightText": "Northwest Geomatics, LTD",
"serviceDataType": "esriImageServiceDataTypeRGB",
"minValues": [
0,
0,
0
],
"maxValues": [
236,
228,
224
],
"meanValues": [
6.833376413013565,
10.15639647091266,
8.319993710366706
],
"stdvValues": [
21.076999709147216,
28.33126477539783,
22.68308445211936
],
"objectIdField": "OBJECTID",
"fields": [
{
"name": "OBJECTID",
"type": "esriFieldTypeOID",
"alias": "OBJECTID",
"domain": null
},
{
"name": "Shape",
"type": "esriFieldTypeGeometry",
"alias": "Shape",
"domain": null
},
{
"name": "Name",
"type": "esriFieldTypeString",
"alias": "Name",
"domain": null,
"length": 200
},
{
"name": "Category",
"type": "esriFieldTypeInteger",
"alias": "Category",
"domain": {
"type": "codedValue",
"name": "MosaicCatalogItemCategoryDomain",
"description": "Catalog item categories.",
"codedValues": [
{
"name": "Unknown",
"code": 0
},
{
"name": "Primary",
"code": 1
},
{
"name": "Overview",
"code": 2
},
{
"name": "Unprocessed Overview",
"code": 3
},
{
"name": "Partial Overview",
"code": 4
},
{
"name": "Inactive",
"code": 5
},
{
"name": "Uploaded",
"code": 253
},
{
"name": "Incomplete",
"code": 254
},
{
"name": "Custom",
"code": 255
}
],
"mergePolicy": "esriMPTDefaultValue",
"splitPolicy": "esriSPTDefaultValue"
}
},
{
"name": "CenterX",
"type": "esriFieldTypeDouble",
"alias": "CenterX",
"domain": null
},
{
"name": "CenterY",
"type": "esriFieldTypeDouble",
"alias": "CenterY",
"domain": null
}
],
"capabilities": "Catalog,Image,Metadata",
"defaultMosaicMethod": "Northwest",
"allowedMosaicMethods": "NorthWest,Center,LockRaster,ByAttribute,Nadir,Viewpoint,Seamline,None",
"sortField": "",
"sortValue": null,
"sortAscending": true,
"mosaicOperator": "First",
"maxDownloadSizeLimit": 2048,
"defaultCompressionQuality": 100,
"defaultResamplingMethod": "Bicubic",
"maxImageHeight": 4100,
"maxImageWidth": 15000,
"maxRecordCount": 1000,
"maxDownloadImageCount": 20,
"maxMosaicImageCount": 20,
"allowRasterFunction": true,
"rasterFunctionInfos": [
{
"name": "None",
"description": "A No-Op Function.",
"help": ""
}
],
"rasterTypeInfos": [
{
"name": "Raster Dataset",
"description": "Supports all ArcGIS Raster Datasets",
"help": ""
}
],
"mensurationCapabilities": "None",
"hasHistograms": true,
"hasColormap": false,
"hasRasterAttributeTable": false,
"minScale": 0,
"maxScale": 0,
"exportTilesAllowed": false,
"hasMultidimensions": false,
"supportsStatistics": true,
"supportsAdvancedQueries": true,
"editFieldsInfo": null,
"ownershipBasedAccessControlForRasters": null,
"allowComputeTiePoints": false,
"useStandardizedQueries": true,
"advancedQueryCapabilities": {
"useStandardizedQueries": true,
"supportsStatistics": true,
"supportsOrderBy": true,
"supportsDistinct": true,
"supportsPagination": true
},
"spatialReference": {
"wkid": 102749,
"latestWkid": 2286
}
}