View In:
ArcGIS JavaScript
ArcGIS Online map viewer
ArcGIS Earth
ArcMap
View Footprint In:
ArcGIS Online map viewer
Service Description: WebMercator/web_Photos2015
Name: WebMercator/web_Photos2015
Description:
Single Fused Map Cache: false
Extent:
XMin: -1.3715023365600001E7
YMin: 5903214.797263528
XMax: -1.3602271676496623E7
YMax: 5974833.034500003
Spatial Reference: 102100
(3857)
Initial Extent:
XMin: -1.3715023365600001E7
YMin: 5903214.797263528
XMax: -1.3602271676496623E7
YMax: 5974833.034500003
Spatial Reference: 102100
(3857)
Full Extent:
XMin: -1.3715023365600001E7
YMin: 5903214.797263528
XMax: -1.3602271676496623E7
YMax: 5974833.034500003
Spatial Reference: 102100
(3857)
Pixel Size X: 0.1524003048006093
Pixel Size Y: 0.15240030480060995
Band Count: 3
Pixel Type: U8
RasterFunction Infos: {"rasterFunctionInfos": [{
"name": "None",
"description": "A No-Op Function.",
"help": ""
}]}
Mensuration Capabilities: Basic
Has Histograms: true
Has Colormap: false
Has Multi Dimensions : false
Rendering Rule:
Min Scale: 0
Max Scale: 0
Copyright Text: Thurston County
Service Data Type: esriImageServiceDataTypeProcessed
Min Values: 0, 0, 1
Max Values: 255, 255, 255
Mean Values: 72.076114217883, 84.649207129448, 79.27531922206524
Standard Deviation Values: 43.383816146189815, 36.463260299081384, 29.372536923238208
Object ID Field: OBJECTID
Fields:
-
OBJECTID
(
type: esriFieldTypeOID, alias: OBJECTID
)
-
Shape
(
type: esriFieldTypeGeometry, alias: Shape
)
-
Name
(
type: esriFieldTypeString, alias: Name, length: 200
)
-
Category
(
type: esriFieldTypeInteger, alias: Category
, Coded Values:
[0: Unknown]
, [1: Primary]
, [2: Overview]
, ...6 more...
)
-
CenterX
(
type: esriFieldTypeDouble, alias: CenterX
)
-
CenterY
(
type: esriFieldTypeDouble, alias: CenterY
)
-
Shape_Area
(
type: esriFieldTypeDouble, alias: Shape_Area
)
Default Mosaic Method: Northwest
Allowed Mosaic Methods: NorthWest,Center,LockRaster,ByAttribute,Nadir,Viewpoint,Seamline,None
SortField:
SortValue: null
Mosaic Operator: First
Default Compression Quality: 100
Default Resampling Method: Bicubic
Max Record Count: 1000
Max Image Height: 4100
Max Image Width: 15000
Max Download Image Count: 20
Max Mosaic Image Count: 20
Allow Raster Function: true
Allow Copy: null
Allow Analysis: null
Allow Compute TiePoints: false
Supports Statistics: true
Supports Advanced Queries: true
Use StandardizedQueries: true
Raster Type Infos:
Name: Raster Dataset
Description: Supports all ArcGIS Raster Datasets
Help:
Has Raster Attribute Table: false
Edit Fields Info: null
Ownership Based AccessControl For Rasters: null
Child Resources:
Info
Histograms
Key Properties
Legend
Raster Function Infos
Supported Operations:
Export Image
Query
Identify
Download Rasters
Measure
Compute Histograms
Compute Statistics Histograms
Get Samples
Compute Class Statistics
Query Boundary
Compute Pixel Location
Validate
Project