View In:
ArcGIS JavaScript
ArcGIS Online map viewer
ArcGIS Earth
ArcMap
View Footprint In:
ArcGIS Online map viewer
Service Description: Description of what the data is, where it came from, when it was flown, etc.
Name: Test/Photos2024_Test
Description: Description of what the data is, where it came from, when it was flown, etc.
Single Fused Map Cache: true
Tile Info:
- Height: 256
- Width: 256
- DPI: 96
-
Levels of Detail: 12
- Format: PNG
- Compression Quality: 0.0
- LERC Error: NaN
- Origin: X: -1.174983E8
Y: 1.394271E8
- Spatial Reference: 102749
(2286)
Extent:
XMin: 1105391.999999995
YMin: 548179.333295505
XMax: 1111255.000117255
YMax: 550071.000000005
Spatial Reference: 102749
(2286)
Initial Extent:
XMin: 1105391.999999995
YMin: 548179.333295505
XMax: 1111255.000117255
YMax: 550071.000000005
Spatial Reference: 102749
(2286)
Full Extent:
XMin: 1105391.999999995
YMin: 548179.333295505
XMax: 1111255.000117255
YMax: 550071.000000005
Spatial Reference: 102749
(2286)
Pixel Size X: 0.16666666999999427
Pixel Size Y: 0.16666666999999802
Band Count: 3
Pixel Type: U8
RasterFunction Infos: {"rasterFunctionInfos": [{
"name": "None",
"description": "A No-Op Function.",
"help": ""
}]}
Mensuration Capabilities:
Has Histograms: true
Has Colormap: false
Has Multi Dimensions : false
Rendering Rule:
Min Scale: 1000000
Max Scale: 500
Min LOD: 0
Max LOD: 11
Copyright Text: Test
Service Data Type: esriImageServiceDataTypeRGB
Min Values: 0, 0, 0
Max Values: 255, 255, 255
Mean Values: 88.41347608758345, 106.52030782061681, 109.50581144091821
Standard Deviation Values: 60.77702182835624, 53.532492753924714, 34.317868519109666
Object ID Field: OBJECTID
Fields:
-
OBJECTID
(
type: esriFieldTypeOID, alias: OBJECTID
)
-
Shape
(
type: esriFieldTypeGeometry, alias: Shape
)
-
Name
(
type: esriFieldTypeString, alias: Name, length: 200
)
-
Category
(
type: esriFieldTypeInteger, alias: Category
, Coded Values:
[0: Unknown]
, [1: Primary]
, [2: Overview]
, ...6 more...
)
-
CenterX
(
type: esriFieldTypeDouble, alias: CenterX
)
-
CenterY
(
type: esriFieldTypeDouble, alias: CenterY
)
Default Mosaic Method: Northwest
Allowed Mosaic Methods: NorthWest,Center,LockRaster,ByAttribute,Nadir,Viewpoint,Seamline,None
SortField:
SortValue: null
Mosaic Operator: First
Default Compression Quality: 100
Default Resampling Method: Bicubic
Max Record Count: 1000
Max Image Height: 4100
Max Image Width: 15000
Max Download Image Count: 20
Max Mosaic Image Count: 20
Allow Raster Function: true
Allow Copy: null
Allow Analysis: null
Allow Compute TiePoints: false
Supports Statistics: true
Supports Advanced Queries: true
Use StandardizedQueries: true
Raster Type Infos:
Name: Raster Dataset
Description: Supports all ArcGIS Raster Datasets
Help:
Has Raster Attribute Table: false
Edit Fields Info: null
Ownership Based AccessControl For Rasters: null
Child Resources:
Info
Histograms
Key Properties
Legend
Raster Function Infos
Supported Operations:
Export Image
Query
Identify
Download Rasters
Measure
Compute Histograms
Compute Statistics Histograms
Get Samples
Compute Class Statistics
Query Boundary
Compute Pixel Location
Validate
Project