View In:
ArcGIS JavaScript
ArcGIS Online map viewer
ArcGIS Earth
ArcMap
View Footprint In:
ArcGIS Online map viewer
Service Description: Digital aerial imagery for Washington state was collected by Hexagon as part of the 2019 NAIP Imaging Program. Imagery was collected between June 30, 2019 and November 2, 2019 using Leica ADS100 digital camera systems. The project was flown at heights ranging from 16,500 ft msl to 20,500 ft msl resulting in a nominal GSD of 30cm. Four band images were collected to support both 3-band natural color (RGB) and false color infrared (FCIR) orthoimage products. Aerotriangulation and orthorectification were done with the Leica Xpro software package, version 6.4 and ortho mosaics were created with Inpho Orthovista 8.0. 4-band RGBN 8-bit Ortho images were created in a DOQQ tiling scheme.Date stamps for Thurston County flights are 08/05/19, 08/26/19, 10/10/19
Name: Test/Photos2019
Description: Digital aerial imagery for Washington state was collected by Hexagon as part of the 2019 NAIP Imaging Program. Imagery was collected between June 30, 2019 and November 2, 2019 using Leica ADS100 digital camera systems. The project was flown at heights ranging from 16,500 ft msl to 20,500 ft msl resulting in a nominal GSD of 30cm. Four band images were collected to support both 3-band natural color (RGB) and false color infrared (FCIR) orthoimage products. Aerotriangulation and orthorectification were done with the Leica Xpro software package, version 6.4 and ortho mosaics were created with Inpho Orthovista 8.0. 4-band RGBN 8-bit Ortho images were created in a DOQQ tiling scheme.Date stamps for Thurston County flights are 08/05/19, 08/26/19, 10/10/19
Single Fused Map Cache: false
Extent:
XMin: 965966
YMin: 525717
XMax: 1216599
YMax: 690130
Spatial Reference: 102749
(2286)
Initial Extent:
XMin: 965966
YMin: 525717
XMax: 1216599
YMax: 690130
Spatial Reference: 102749
(2286)
Full Extent:
XMin: 965966
YMin: 525717
XMax: 1216599
YMax: 690130
Spatial Reference: 102749
(2286)
Pixel Size X: 1.0
Pixel Size Y: 1.0
Band Count: 3
Pixel Type: U8
RasterFunction Infos: {"rasterFunctionInfos": [{
"name": "None",
"description": "A No-Op Function.",
"help": ""
}]}
Mensuration Capabilities: None
Has Histograms: true
Has Colormap: false
Has Multi Dimensions : false
Rendering Rule:
Min Scale: 0
Max Scale: 0
Copyright Text: HxGN Content Program
Service Data Type: esriImageServiceDataTypeRGB
Min Values: 0, 0, 0
Max Values: 219, 217, 212
Mean Values: 50.175438082924806, 73.514421493412, 70.98486562111958
Standard Deviation Values: 40.08354534979315, 37.197244089539495, 23.03172738545184
Object ID Field: OBJECTID
Fields:
-
OBJECTID
(
type: esriFieldTypeOID, alias: OBJECTID
)
-
Shape
(
type: esriFieldTypeGeometry, alias: Shape
)
-
Name
(
type: esriFieldTypeString, alias: Name, length: 200
)
-
Category
(
type: esriFieldTypeInteger, alias: Category
, Coded Values:
[0: Unknown]
, [1: Primary]
, [2: Overview]
, ...6 more...
)
-
CenterX
(
type: esriFieldTypeDouble, alias: CenterX
)
-
CenterY
(
type: esriFieldTypeDouble, alias: CenterY
)
Default Mosaic Method: Northwest
Allowed Mosaic Methods: NorthWest,Center,LockRaster,ByAttribute,Nadir,Viewpoint,Seamline,None
SortField:
SortValue: null
Mosaic Operator: First
Default Compression Quality: 100
Default Resampling Method: Bicubic
Max Record Count: 1000
Max Image Height: 4100
Max Image Width: 15000
Max Download Image Count: 20
Max Mosaic Image Count: 20
Allow Raster Function: true
Allow Copy: null
Allow Analysis: null
Allow Compute TiePoints: false
Supports Statistics: true
Supports Advanced Queries: true
Use StandardizedQueries: true
Raster Type Infos:
Name: Raster Dataset
Description: Supports all ArcGIS Raster Datasets
Help:
Has Raster Attribute Table: false
Edit Fields Info: null
Ownership Based AccessControl For Rasters: null
Child Resources:
Info
Histograms
Key Properties
Legend
Raster Function Infos
Supported Operations:
Export Image
Query
Identify
Compute Histograms
Compute Statistics Histograms
Get Samples
Compute Class Statistics
Query Boundary
Compute Pixel Location
Validate
Project