View In:
ArcGIS JavaScript
ArcGIS Online map viewer
ArcGIS Earth
ArcMap
View Footprint In:
ArcGIS Online map viewer
Service Description: The highest hit digital surface model (DSM) represents the earth's surface elevation with all natural and anthropogenic features included. It was derived from NIR lidar data using the highest hit method. Some elevation values have been interpolated across areas in the ground model where there is no elevation data (e.g. over water). Data was processed in reference to NAD83 (CORS96), however the horizontal datum for this dataset is defined as NAD83 (HARN) as the difference is generally small and allows for greater ease of use with data in different datums. The vertical datum is NAVD88, Geoid 03, and the data is projected in Washington State Plane South. Units are in US Survey Feet. NV5 Geospatial collected the Thurston County Lidar data for Washington Department of Natural Resources between 03/27/2021 and 04/03/2021.
Name: LiDAR/FirstReturnDSM2021_DNR
Description: The highest hit digital surface model (DSM) represents the earth's surface elevation with all natural and anthropogenic features included. It was derived from NIR lidar data using the highest hit method. Some elevation values have been interpolated across areas in the ground model where there is no elevation data (e.g. over water). Data was processed in reference to NAD83 (CORS96), however the horizontal datum for this dataset is defined as NAD83 (HARN) as the difference is generally small and allows for greater ease of use with data in different datums. The vertical datum is NAVD88, Geoid 03, and the data is projected in Washington State Plane South. Units are in US Survey Feet. NV5 Geospatial collected the Thurston County Lidar data for Washington Department of Natural Resources between 03/27/2021 and 04/03/2021.
Single Fused Map Cache: false
Extent:
XMin: 965725.4996247143
YMin: 524249.9998591235
XMax: 1214999.9996242758
YMax: 659249.999858886
Spatial Reference: 102749
(2286)
Initial Extent:
XMin: 965725.4996247143
YMin: 524249.9998591235
XMax: 1214999.9996242758
YMax: 659249.999858886
Spatial Reference: 102749
(2286)
Full Extent:
XMin: 965725.4996247143
YMin: 524249.9998591235
XMax: 1214999.9996242758
YMax: 659249.999858886
Spatial Reference: 102749
(2286)
Pixel Size X: 1.4999999999973619
Pixel Size Y: 1.4999999999973612
Band Count: 1
Pixel Type: F32
RasterFunction Infos: {"rasterFunctionInfos": [{
"name": "None",
"description": "",
"help": ""
}]}
Mensuration Capabilities: None
Has Histograms: true
Has Colormap: false
Has Multi Dimensions : false
Rendering Rule:
Min Scale: 0
Max Scale: 0
Copyright Text: Washington Department of Natural Resources
Service Data Type: esriImageServiceDataTypeGeneric
Min Values: 4.295457363128662
Max Values: 3062.7900390625
Mean Values: 568.2346266928843
Standard Deviation Values: 519.348243418443
Object ID Field: OBJECTID
Fields:
-
OBJECTID
(
type: esriFieldTypeOID, alias: OBJECTID
)
-
Shape
(
type: esriFieldTypeGeometry, alias: Shape
)
-
Name
(
type: esriFieldTypeString, alias: Name, length: 200
)
-
Category
(
type: esriFieldTypeInteger, alias: Category
, Coded Values:
[0: Unknown]
, [1: Primary]
, [2: Overview]
, ...6 more...
)
-
CenterX
(
type: esriFieldTypeDouble, alias: CenterX
)
-
CenterY
(
type: esriFieldTypeDouble, alias: CenterY
)
Default Mosaic Method: Northwest
Allowed Mosaic Methods: NorthWest,Center,LockRaster,ByAttribute,Nadir,Viewpoint,Seamline,None
SortField:
SortValue: null
Mosaic Operator: First
Default Compression Quality: 75
Default Resampling Method: Bilinear
Max Record Count: 1000
Max Image Height: 4100
Max Image Width: 15000
Max Download Image Count: 20
Max Mosaic Image Count: 20
Allow Raster Function: true
Allow Copy: null
Allow Analysis: null
Allow Compute TiePoints: false
Supports Statistics: true
Supports Advanced Queries: true
Use StandardizedQueries: true
Raster Type Infos:
Name: Raster Dataset
Description: Supports all ArcGIS Raster Datasets
Help:
Has Raster Attribute Table: false
Edit Fields Info: null
Ownership Based AccessControl For Rasters: null
Child Resources:
Info
Histograms
Key Properties
Legend
Raster Function Infos
Supported Operations:
Export Image
Query
Identify
Compute Histograms
Compute Statistics Histograms
Get Samples
Compute Class Statistics
Query Boundary
Compute Pixel Location
Validate
Project