View In:
ArcGIS JavaScript
ArcGIS Online map viewer
ArcGIS Earth
ArcMap
View Footprint In:
ArcGIS Online map viewer
Service Description: LiDAR/FirstReturnDSM2002_Hillshade
Name: LiDAR/FirstReturnDSM2002_Hillshade
Description:
Single Fused Map Cache: false
Extent:
XMin: 955159.1601303702
YMin: 523509.2165532373
XMax: 1217737.1601303702
YMax: 709005.2165532373
Spatial Reference: 102749
(2286)
Initial Extent:
XMin: 955159.1601303702
YMin: 523509.2165532373
XMax: 1217737.1601303702
YMax: 709005.2165532373
Spatial Reference: 102749
(2286)
Full Extent:
XMin: 955159.1601303702
YMin: 523509.2165532373
XMax: 1217737.1601303702
YMax: 709005.2165532373
Spatial Reference: 102749
(2286)
Pixel Size X: 6.0
Pixel Size Y: 6.0
Band Count: 1
Pixel Type: S16
RasterFunction Infos: {"rasterFunctionInfos": [{
"name": "None",
"description": "",
"help": ""
}]}
Mensuration Capabilities: Basic
Has Histograms: true
Has Colormap: false
Has Multi Dimensions : false
Rendering Rule:
Min Scale: 0
Max Scale: 0
Copyright Text: Puget Sound LiDAR Consortium
Service Data Type: esriImageServiceDataTypeGeneric
Min Values: 0
Max Values: 254
Mean Values: 139.3836196538053
Standard Deviation Values: 76.21825243292759
Object ID Field:
Fields:
None
Default Mosaic Method: Center
Allowed Mosaic Methods:
SortField:
SortValue: null
Mosaic Operator: First
Default Compression Quality: 100
Default Resampling Method: Bilinear
Max Record Count: null
Max Image Height: 4100
Max Image Width: 15000
Max Download Image Count: null
Max Mosaic Image Count: null
Allow Raster Function: true
Allow Copy: null
Allow Analysis: null
Allow Compute TiePoints: false
Supports Statistics: false
Supports Advanced Queries: false
Use StandardizedQueries: true
Raster Type Infos:
Name: Raster Dataset
Description: Supports all ArcGIS Raster Datasets
Help:
Has Raster Attribute Table: true
Edit Fields Info: null
Ownership Based AccessControl For Rasters: null
Child Resources:
Info
Raster Attribute Table
Histograms
Key Properties
Legend
Raster Function Infos
Supported Operations:
Export Image
Identify
Measure
Compute Histograms
Compute Statistics Histograms
Get Samples
Compute Class Statistics
Query Boundary
Compute Pixel Location
Validate
Project