View In:
ArcGIS JavaScript
ArcGIS Online map viewer
ArcGIS Earth
ArcMap
View Footprint In:
ArcGIS Online map viewer
Service Description: The dataset consists of tiled orthogonal imagery produced from nadir images captured by Pictometry International. This ortho-mosaic is a visualization product and is not intended or valid for authoritative or definitive use, nor is it suitable for submittal to the USGS for funding reimbursement in such programs. Thurston County Orthophotography acquired February 1. 2024 through March 30, 2024.
Name: Aerial/Photos2024
Description: The dataset consists of tiled orthogonal imagery produced from nadir images captured by Pictometry International. This ortho-mosaic is a visualization product and is not intended or valid for authoritative or definitive use, nor is it suitable for submittal to the USGS for funding reimbursement in such programs. Thurston County Orthophotography acquired February 1. 2024 through March 30, 2024.
Single Fused Map Cache: false
Extent:
XMin: 965965.997211488
YMin: 525716.9995129271
XMax: 1216599.002224125
YMax: 690130.0028011721
Spatial Reference: 102749
(2286)
Initial Extent:
XMin: 965965.997211488
YMin: 525716.9995129271
XMax: 1216599.002224125
YMax: 690130.0028011721
Spatial Reference: 102749
(2286)
Full Extent:
XMin: 965965.997211488
YMin: 525716.9995129271
XMax: 1216599.002224125
YMax: 690130.0028011721
Spatial Reference: 102749
(2286)
Pixel Size X: 0.1666666699999847
Pixel Size Y: 0.16666666999998475
Band Count: 3
Pixel Type: U8
RasterFunction Infos: {"rasterFunctionInfos": [{
"name": "None",
"description": "A No-Op Function.",
"help": ""
}]}
Mensuration Capabilities: None
Has Histograms: true
Has Colormap: false
Has Multi Dimensions : false
Rendering Rule:
Min Scale: 0
Max Scale: 0
Copyright Text: Pictometry International Corp.
Service Data Type: esriImageServiceDataTypeRGB
Min Values: 0, 0, 0
Max Values: 255, 255, 255
Mean Values: 88.3852847807068, 106.5091929151912, 109.48146326436945
Standard Deviation Values: 60.72221150925062, 53.45666323515844, 34.26941007179649
Object ID Field: OBJECTID
Fields:
-
OBJECTID
(
type: esriFieldTypeOID, alias: OBJECTID
)
-
Shape
(
type: esriFieldTypeGeometry, alias: Shape
)
-
Name
(
type: esriFieldTypeString, alias: Name, length: 200
)
-
Category
(
type: esriFieldTypeInteger, alias: Category
, Coded Values:
[0: Unknown]
, [1: Primary]
, [2: Overview]
, ...6 more...
)
-
CenterX
(
type: esriFieldTypeDouble, alias: CenterX
)
-
CenterY
(
type: esriFieldTypeDouble, alias: CenterY
)
Default Mosaic Method: Northwest
Allowed Mosaic Methods: NorthWest,Center,LockRaster,ByAttribute,Nadir,Viewpoint,Seamline,None
SortField:
SortValue: null
Mosaic Operator: First
Default Compression Quality: 100
Default Resampling Method: Bilinear
Max Record Count: 1000
Max Image Height: 4100
Max Image Width: 15000
Max Download Image Count: 20
Max Mosaic Image Count: 20
Allow Raster Function: true
Allow Copy: null
Allow Analysis: null
Allow Compute TiePoints: false
Supports Statistics: true
Supports Advanced Queries: true
Use StandardizedQueries: true
Raster Type Infos:
Name: Raster Dataset
Description: Supports all ArcGIS Raster Datasets
Help:
Has Raster Attribute Table: false
Edit Fields Info: null
Ownership Based AccessControl For Rasters: null
Child Resources:
Info
Histograms
Key Properties
Legend
Raster Function Infos
Supported Operations:
Export Image
Query
Identify
Compute Histograms
Compute Statistics Histograms
Get Samples
Compute Class Statistics
Query Boundary
Compute Pixel Location
Validate
Project