View In:
ArcGIS JavaScript
ArcGIS Online map viewer
ArcGIS Earth
ArcMap
View Footprint In:
ArcGIS Online map viewer
Service Description: The dataset consists of tiled orthogonal imagery produced from nadir images captured by Pictometry International. Automatic aerial triangulation (AAT) was performed. The triangulated frames were rectified to a DEM. Mosaicking was performed using an automatic seaming algorithm and manually edited to eliminate seams through elevated features where possible.
Name: Aerial/Photos2022
Description: The dataset consists of tiled orthogonal imagery produced from nadir images captured by Pictometry International. Automatic aerial triangulation (AAT) was performed. The triangulated frames were rectified to a DEM. Mosaicking was performed using an automatic seaming algorithm and manually edited to eliminate seams through elevated features where possible.
Single Fused Map Cache: false
Extent:
XMin: 965965.75
YMin: 525716.75
XMax: 1216599.25
YMax: 690130.25
Spatial Reference: 102749
(2286)
Initial Extent:
XMin: 965965.75
YMin: 525716.75
XMax: 1216599.25
YMax: 690130.25
Spatial Reference: 102749
(2286)
Full Extent:
XMin: 965965.75
YMin: 525716.75
XMax: 1216599.25
YMax: 690130.25
Spatial Reference: 102749
(2286)
Pixel Size X: 0.25
Pixel Size Y: 0.25
Band Count: 3
Pixel Type: U8
RasterFunction Infos: {"rasterFunctionInfos": [{
"name": "None",
"description": "A No-Op Function.",
"help": ""
}]}
Mensuration Capabilities: None
Has Histograms: true
Has Colormap: false
Has Multi Dimensions : false
Rendering Rule:
Min Scale: 0
Max Scale: 0
Copyright Text: Pictometry International Corp.
Service Data Type: esriImageServiceDataTypeRGB
Min Values: 0, 0, 0
Max Values: 255, 255, 255
Mean Values: 121.24898916207863, 125.64923949936505, 78.45642067449866
Standard Deviation Values: 59.55824826417919, 55.0217153236671, 41.19392919123898
Object ID Field: OBJECTID
Fields:
-
OBJECTID
(
type: esriFieldTypeOID, alias: OBJECTID
)
-
Shape
(
type: esriFieldTypeGeometry, alias: Shape
)
-
Name
(
type: esriFieldTypeString, alias: Name, length: 200
)
-
Category
(
type: esriFieldTypeInteger, alias: Category
, Coded Values:
[0: Unknown]
, [1: Primary]
, [2: Overview]
, ...6 more...
)
-
CenterX
(
type: esriFieldTypeDouble, alias: CenterX
)
-
CenterY
(
type: esriFieldTypeDouble, alias: CenterY
)
Default Mosaic Method: Northwest
Allowed Mosaic Methods: NorthWest,Center,LockRaster,ByAttribute,Nadir,Viewpoint,Seamline,None
SortField:
SortValue: null
Mosaic Operator: First
Default Compression Quality: 75
Default Resampling Method: Bicubic
Max Record Count: 1000
Max Image Height: 4100
Max Image Width: 15000
Max Download Image Count: 20
Max Mosaic Image Count: 20
Allow Raster Function: true
Allow Copy: null
Allow Analysis: null
Allow Compute TiePoints: false
Supports Statistics: true
Supports Advanced Queries: true
Use StandardizedQueries: true
Raster Type Infos:
Name: Raster Dataset
Description: Supports all ArcGIS Raster Datasets
Help:
Has Raster Attribute Table: false
Edit Fields Info: null
Ownership Based AccessControl For Rasters: null
Child Resources:
Info
Histograms
Key Properties
Legend
Raster Function Infos
Supported Operations:
Export Image
Query
Identify
Download Rasters
Measure
Compute Histograms
Compute Statistics Histograms
Get Samples
Compute Class Statistics
Query Boundary
Compute Pixel Location
Validate
Project