View In:
ArcGIS JavaScript
ArcGIS Online map viewer
ArcGIS Earth
ArcMap
View Footprint In:
ArcGIS Online map viewer
Service Description: This image data is the result of private and government entities working together under the guidance of Thurston County GIS staff. Fugro USA Land, Inc. acquired Digital Imagery with sensor
Leica geosystems ADS80 SH82 for areas of the Thurston County, WA project area July 3 - July 14, 2018. The project encompassed an area of approximately 806 square miles. A Leica ADS80 SH82 Digital Camera system
including an inertial measuring unit (IMU) and a dual frequency airborne GPS receiver was used for the digital image acquisition. Imagery acquisition was performed July 3 - July 14, 2018 at 2400 feet AMT (3") 4800 feet AMT (6")
(above mean terrain), with 30 percent sidelap between the flight lines. Ground control survey was provided by the True North Land Surveying and supplemented with existing control.
Digital orthophotos in 8-bit RGB and 16-bit CIR (4-band)GeoTIFF format were produced with resolutions of 3" and 6" utilizing the ADS80 SH82 imagery and the newly-produced auto-correlated DSM (digital surface model) from the 2018 imagery.
Delivery was on an External Hard Drive.
Name: Aerial/Photos2018CIR
Description: This image data is the result of private and government entities working together under the guidance of Thurston County GIS staff. Fugro USA Land, Inc. acquired Digital Imagery with sensor
Leica geosystems ADS80 SH82 for areas of the Thurston County, WA project area July 3 - July 14, 2018. The project encompassed an area of approximately 806 square miles. A Leica ADS80 SH82 Digital Camera system
including an inertial measuring unit (IMU) and a dual frequency airborne GPS receiver was used for the digital image acquisition. Imagery acquisition was performed July 3 - July 14, 2018 at 2400 feet AMT (3") 4800 feet AMT (6")
(above mean terrain), with 30 percent sidelap between the flight lines. Ground control survey was provided by the True North Land Surveying and supplemented with existing control.
Digital orthophotos in 8-bit RGB and 16-bit CIR (4-band)GeoTIFF format were produced with resolutions of 3" and 6" utilizing the ADS80 SH82 imagery and the newly-produced auto-correlated DSM (digital surface model) from the 2018 imagery.
Delivery was on an External Hard Drive.
Single Fused Map Cache: false
Extent:
XMin: 965966
YMin: 525717
XMax: 1216599
YMax: 690130
Spatial Reference: 102749
(2286)
Initial Extent:
XMin: 965966
YMin: 525717
XMax: 1216599
YMax: 690130
Spatial Reference: 102749
(2286)
Full Extent:
XMin: 965966
YMin: 525717
XMax: 1216599
YMax: 690130
Spatial Reference: 102749
(2286)
Pixel Size X: 0.25
Pixel Size Y: 0.25
Band Count: 4
Pixel Type: U16
RasterFunction Infos: {"rasterFunctionInfos": [{
"name": "None",
"description": "A No-Op Function.",
"help": ""
}]}
Mensuration Capabilities: Basic
Has Histograms: false
Has Colormap: false
Has Multi Dimensions : false
Rendering Rule:
Min Scale: 0
Max Scale: 0
Copyright Text: Fugro USA Land, Inc.
Service Data Type: esriImageServiceDataTypeGeneric
Min Values: N/A
Max Values: N/A
Mean Values: N/A
Standard Deviation Values: N/A
Object ID Field: OBJECTID
Fields:
-
OBJECTID
(
type: esriFieldTypeOID, alias: OBJECTID
)
-
Shape
(
type: esriFieldTypeGeometry, alias: Shape
)
-
Name
(
type: esriFieldTypeString, alias: Name, length: 50
)
-
Category
(
type: esriFieldTypeInteger, alias: Category
, Coded Values:
[0: Unknown]
, [1: Primary]
, [2: Overview]
, ...5 more...
)
-
CenterX
(
type: esriFieldTypeDouble, alias: CenterX
)
-
CenterY
(
type: esriFieldTypeDouble, alias: CenterY
)
Default Mosaic Method: Northwest
Allowed Mosaic Methods: NorthWest,Center,LockRaster,ByAttribute,Nadir,Viewpoint,Seamline,None
SortField:
SortValue: null
Mosaic Operator: First
Default Compression Quality: 75
Default Resampling Method: Bicubic
Max Record Count: 1000
Max Image Height: 4100
Max Image Width: 15000
Max Download Image Count: 20
Max Mosaic Image Count: 20
Allow Raster Function: true
Allow Copy: null
Allow Analysis: null
Allow Compute TiePoints: false
Supports Statistics: true
Supports Advanced Queries: true
Use StandardizedQueries: true
Raster Type Infos:
Name: Raster Dataset
Description: Supports all ArcGIS Raster Datasets
Help:
Has Raster Attribute Table: false
Edit Fields Info: null
Ownership Based AccessControl For Rasters: null
Child Resources:
Info
Key Properties
Legend
Raster Function Infos
Supported Operations:
Export Image
Query
Identify
Download Rasters
Measure
Compute Histograms
Compute Statistics Histograms
Get Samples
Compute Class Statistics
Query Boundary
Compute Pixel Location
Validate
Project