View In:
  ArcGIS JavaScript
  ArcGIS Online map viewer
  ArcGIS Earth
  ArcMap
View Footprint In:
  ArcGIS Online map viewer
Service Description:  Aerial/Photos2012
Name:  Aerial/Photos2012
Description:  
Single Fused Map Cache:  false
Extent: 
XMin: 947541.75
YMin: 525717.25
XMax: 1216598.75
YMax: 690130.25
Spatial Reference: 102749
 (2286)
Initial Extent: 
XMin: 947541.75
YMin: 525717.25
XMax: 1216598.75
YMax: 690130.25
Spatial Reference: 102749
 (2286)
Full Extent: 
XMin: 947541.75
YMin: 525717.25
XMax: 1216598.75
YMax: 690130.25
Spatial Reference: 102749
 (2286)
Pixel Size X:  0.5
Pixel Size Y:  0.5
Band Count: 3
Pixel Type: U8
RasterFunction Infos:  {"rasterFunctionInfos": [{
 "name": "None",
 "description": "",
 "help": ""
}]}
Mensuration Capabilities: Basic
Has Histograms:  true
Has Colormap:  false
Has Multi Dimensions :  false
Rendering Rule: 
Min Scale:  0
Max Scale:  0
Copyright Text:  Thurston County
Service Data Type:  esriImageServiceDataTypeProcessed
Min Values:  0, 0, 0
Max Values:  255, 255, 255
Mean Values:  76.53437257510788, 88.18975725566233, 81.90334512364423
Standard Deviation Values:  46.21202269729262, 42.63249296470301, 35.601467263841165
Object ID Field:  OBJECTID
Fields: 
- 
OBJECTID
(
type: esriFieldTypeOID, alias: OBJECTID
)
 
- 
Shape
(
type: esriFieldTypeGeometry, alias: Shape
)
 
- 
Name
(
type: esriFieldTypeString, alias: Name, length: 50
)
 
- 
Category
(
type: esriFieldTypeInteger, alias: Category
, Coded Values: 
[0: Unknown]
, [1: Primary]
, [2: Overview]
, ...5 more...
)
 
- 
ProductName
(
type: esriFieldTypeString, alias: ProductName, length: 50
)
 
- 
CenterX
(
type: esriFieldTypeDouble, alias: CenterX
)
 
- 
CenterY
(
type: esriFieldTypeDouble, alias: CenterY
)
 
- 
SLevelPS
(
type: esriFieldTypeDouble, alias: SLevelPS
)
 
Default Mosaic Method:  Seamline
Allowed Mosaic Methods:  Seamline,NorthWest,Center,LockRaster,ByAttribute,None
SortField:  
SortValue:  null
Mosaic Operator:  Last
Default Compression Quality:  100
Default Resampling Method:  Bicubic
Max Record Count:  1000
Max Image Height:  4100
Max Image Width:  15000
Max Download Image Count:  20
Max Mosaic Image Count:  100
Allow Raster Function:  true
Allow Copy:  null
Allow Analysis:  null
Allow Compute TiePoints:  false
Supports Statistics:  true
Supports Advanced Queries:  true
Use StandardizedQueries:  true
Raster Type Infos: 
Name: Raster Dataset
Description: Supports all ArcGIS Raster Datasets
Help: 
Has Raster Attribute Table:  false
Edit Fields Info:  null
Ownership Based AccessControl For Rasters:  null
Child Resources:
  
Info
  Histograms
  Key Properties
  Legend
  Raster Function Infos
Supported Operations:
  
Export Image
  Query
  Identify
  Download Rasters
  Measure
  Compute Histograms
  Compute Statistics Histograms
  Get Samples
  Compute Class Statistics
  Query Boundary
  Compute Pixel Location
  Validate
  Project