{ "currentVersion": 10.81, "serviceDescription": "

The dataset consists of tiled orthogonal imagery produced from nadir images captured by Pictometry International. Automatic aerial triangulation (AAT) was performed. The triangulated frames were rectified to a DEM. Mosaicking was performed using an automatic seaming algorithm and manually edited to eliminate seams through elevated features where possible.<\/SPAN><\/P><\/DIV><\/DIV><\/DIV>", "name": "WebMercator/web_Photos2022_cache", "description": "

The dataset consists of tiled orthogonal imagery produced from nadir images captured by Pictometry International. Automatic aerial triangulation (AAT) was performed. The triangulated frames were rectified to a DEM. Mosaicking was performed using an automatic seaming algorithm and manually edited to eliminate seams through elevated features where possible.<\/SPAN><\/P><\/DIV><\/DIV><\/DIV>", "extent": { "xmin": -1.37150234809E7, "ymin": 5903214.76056322, "xmax": -1.3602271639396317E7, "ymax": 5974833.150199999, "spatialReference": { "wkid": 102100, "latestWkid": 3857 } }, "initialExtent": { "xmin": -1.37150234809E7, "ymin": 5903214.76056322, "xmax": -1.3602271639396317E7, "ymax": 5974833.150199999, "spatialReference": { "wkid": 102100, "latestWkid": 3857 } }, "fullExtent": { "xmin": -1.37150234809E7, "ymin": 5903214.76056322, "xmax": -1.3602271639396317E7, "ymax": 5974833.150199999, "spatialReference": { "wkid": 102100, "latestWkid": 3857 } }, "pixelSizeX": 0.07620015240030512, "pixelSizeY": 0.07620015240030473, "bandCount": 3, "pixelType": "U8", "minPixelSize": 0.14929107082380835, "maxPixelSize": 156543.03392800014, "copyrightText": "Pictometry International Corp.", "serviceDataType": "esriImageServiceDataTypeRGB", "minValues": [ 0, 0, 0 ], "maxValues": [ 255, 255, 255 ], "meanValues": [ 121.24898916207863, 125.64923949936505, 78.45642067449866 ], "stdvValues": [ 59.55824826417919, 55.0217153236671, 41.19392919123898 ], "objectIdField": "OBJECTID", "fields": [ { "name": "OBJECTID", "type": "esriFieldTypeOID", "alias": "OBJECTID", "domain": null }, { "name": "Shape", "type": "esriFieldTypeGeometry", "alias": "Shape", "domain": null }, { "name": "Name", "type": "esriFieldTypeString", "alias": "Name", "domain": null, "length": 200 }, { "name": "Category", "type": "esriFieldTypeInteger", "alias": "Category", "domain": { "type": "codedValue", "name": "MosaicCatalogItemCategoryDomain", "description": "Catalog item categories.", "codedValues": [ { "name": "Unknown", "code": 0 }, { "name": "Primary", "code": 1 }, { "name": "Overview", "code": 2 }, { "name": "Unprocessed Overview", "code": 3 }, { "name": "Partial Overview", "code": 4 }, { "name": "Inactive", "code": 5 }, { "name": "Uploaded", "code": 253 }, { "name": "Incomplete", "code": 254 }, { "name": "Custom", "code": 255 } ], "mergePolicy": "esriMPTDefaultValue", "splitPolicy": "esriSPTDefaultValue" } }, { "name": "CenterX", "type": "esriFieldTypeDouble", "alias": "CenterX", "domain": null }, { "name": "CenterY", "type": "esriFieldTypeDouble", "alias": "CenterY", "domain": null } ], "capabilities": "Catalog,Image,Mensuration,Metadata", "defaultMosaicMethod": "Northwest", "allowedMosaicMethods": "NorthWest,Center,LockRaster,ByAttribute,Nadir,Viewpoint,Seamline,None", "sortField": "", "sortValue": null, "sortAscending": true, "mosaicOperator": "First", "maxDownloadSizeLimit": 2048, "defaultCompressionQuality": 75, "defaultResamplingMethod": "Bilinear", "maxImageHeight": 4100, "maxImageWidth": 15000, "maxRecordCount": 1000, "maxDownloadImageCount": 20, "maxMosaicImageCount": 20, "singleFusedMapCache": true, "tileInfo": { "rows": 256, "cols": 256, "dpi": 96, "format": "PNG", "compressionQuality": 0, "origin": { "x": -2.0037508342787E7, "y": 2.0037508342787E7 }, "spatialReference": { "wkid": 102100, "latestWkid": 3857 }, "lods": [ { "level": 0, "resolution": 156543.03392800014, "scale": 5.91657527591555E8 }, { "level": 1, "resolution": 78271.51696399994, "scale": 2.95828763795777E8 }, { "level": 2, "resolution": 39135.75848200009, "scale": 1.47914381897889E8 }, { "level": 3, "resolution": 19567.87924099992, "scale": 7.3957190948944E7 }, { "level": 4, "resolution": 9783.93962049996, "scale": 3.6978595474472E7 }, { "level": 5, "resolution": 4891.96981024998, "scale": 1.8489297737236E7 }, { "level": 6, "resolution": 2445.98490512499, "scale": 9244648.868618 }, { "level": 7, "resolution": 1222.992452562495, "scale": 4622324.434309 }, { "level": 8, "resolution": 611.4962262813797, "scale": 2311162.217155 }, { "level": 9, "resolution": 305.74811314055756, "scale": 1155581.108577 }, { "level": 10, "resolution": 152.87405657041106, "scale": 577790.554289 }, { "level": 11, "resolution": 76.43702828507324, "scale": 288895.277144 }, { "level": 12, "resolution": 38.21851414253662, "scale": 144447.638572 }, { "level": 13, "resolution": 19.10925707126831, "scale": 72223.819286 }, { "level": 14, "resolution": 9.554628535634155, "scale": 36111.909643 }, { "level": 15, "resolution": 4.77731426794937, "scale": 18055.954822 }, { "level": 16, "resolution": 2.388657133974685, "scale": 9027.977411 }, { "level": 17, "resolution": 1.1943285668550503, "scale": 4513.988705 }, { "level": 18, "resolution": 0.5971642835598172, "scale": 2256.994353 }, { "level": 19, "resolution": 0.29858214164761665, "scale": 1128.497176 }, { "level": 20, "resolution": 0.14929107082380833, "scale": 564.248588 }, { "level": 21, "resolution": 0.07464553541190416, "scale": 282.124294 }, { "level": 22, "resolution": 0.03732276770595208, "scale": 141.062147 }, { "level": 23, "resolution": 0.01866138385297604, "scale": 70.5310735 } ] }, "cacheType": "Map", "allowRasterFunction": true, "rasterFunctionInfos": [ { "name": "None", "description": "A No-Op Function.", "help": "" } ], "rasterTypeInfos": [ { "name": "Raster Dataset", "description": "Supports all ArcGIS Raster Datasets", "help": "" } ], "mensurationCapabilities": "None", "hasHistograms": true, "hasColormap": false, "hasRasterAttributeTable": false, "minScale": 5.91657527591555E8, "maxScale": 564.248588, "minLOD": 0, "maxLOD": 20, "exportTilesAllowed": false, "hasMultidimensions": false, "supportsStatistics": true, "supportsAdvancedQueries": true, "editFieldsInfo": null, "ownershipBasedAccessControlForRasters": null, "allowComputeTiePoints": false, "useStandardizedQueries": true, "advancedQueryCapabilities": { "useStandardizedQueries": true, "supportsStatistics": true, "supportsOrderBy": true, "supportsDistinct": true, "supportsPagination": true }, "spatialReference": { "wkid": 102100, "latestWkid": 3857 } }