{ "currentVersion": 10.81, "serviceDescription": "
This image data is the result of private and government entities working together under the guidance of Thurston County GIS staff. Fugro USA Land, Inc. acquired Digital Imagery with sensor <\/span><\/p> Leica geosystems ADS80 SH82 for areas of the Thurston County, WA project area July 3 - July 14, 2018. The project encompassed an area of approximately 806 square miles. A Leica ADS80 SH82 Digital Camera system <\/span><\/p> including an inertial measuring unit (IMU) and a dual frequency airborne GPS receiver was used for the digital image acquisition. Imagery acquisition was performed July 3 - July 14, 2018 at 2400 feet AMT (3\") 4800 feet AMT (6\")<\/span><\/p> (above mean terrain), with 30 percent sidelap between the flight lines. Ground control survey was provided by the True North Land Surveying and supplemented with existing control. <\/span><\/p> Digital orthophotos in 8-bit RGB and 16-bit CIR (4-band)GeoTIFF format were produced with resolutions of 3\" and 6\" utilizing the ADS80 SH82 imagery and the newly-produced auto-correlated DSM (digital surface model) from the 2018 imagery. <\/span><\/p> Delivery was on an External Hard Drive.<\/span><\/p><\/div><\/div><\/div>",
"name": "WebMercator/web_Photos2018",
"description": " This image data is the result of private and government entities working together under the guidance of Thurston County GIS staff. Fugro USA Land, Inc. acquired Digital Imagery with sensor <\/span><\/p> Leica geosystems ADS80 SH82 for areas of the Thurston County, WA project area July 3 - July 14, 2018. The project encompassed an area of approximately 806 square miles. A Leica ADS80 SH82 Digital Camera system <\/span><\/p> including an inertial measuring unit (IMU) and a dual frequency airborne GPS receiver was used for the digital image acquisition. Imagery acquisition was performed July 3 - July 14, 2018 at 2400 feet AMT (3\") 4800 feet AMT (6\")<\/span><\/p> (above mean terrain), with 30 percent sidelap between the flight lines. Ground control survey was provided by the True North Land Surveying and supplemented with existing control. <\/span><\/p> Digital orthophotos in 8-bit RGB and 16-bit CIR (4-band)GeoTIFF format were produced with resolutions of 3\" and 6\" utilizing the ADS80 SH82 imagery and the newly-produced auto-correlated DSM (digital surface model) from the 2018 imagery. <\/span><\/p> Delivery was on an External Hard Drive.<\/span><\/p><\/div><\/div><\/div>",
"extent": {
"xmin": -1.3715023365600001E7,
"ymin": 5903214.873463681,
"xmax": -1.3602271752696775E7,
"ymax": 5974833.034500003,
"spatialReference": {
"wkid": 102100,
"latestWkid": 3857
}
},
"initialExtent": {
"xmin": -1.3715023365600001E7,
"ymin": 5903214.873463681,
"xmax": -1.3602271752696775E7,
"ymax": 5974833.034500003,
"spatialReference": {
"wkid": 102100,
"latestWkid": 3857
}
},
"fullExtent": {
"xmin": -1.3715023365600001E7,
"ymin": 5903214.873463681,
"xmax": -1.3602271752696775E7,
"ymax": 5974833.034500003,
"spatialReference": {
"wkid": 102100,
"latestWkid": 3857
}
},
"pixelSizeX": 0.07620015240030505,
"pixelSizeY": 0.07620015240030462,
"bandCount": 3,
"pixelType": "U8",
"minPixelSize": 0,
"maxPixelSize": 0,
"copyrightText": "Fugro USA Land, Inc.",
"serviceDataType": "esriImageServiceDataTypeRGB",
"minValues": [],
"maxValues": [],
"meanValues": [],
"stdvValues": [],
"objectIdField": "OBJECTID",
"fields": [
{
"name": "OBJECTID",
"type": "esriFieldTypeOID",
"alias": "OBJECTID",
"domain": null
},
{
"name": "Shape",
"type": "esriFieldTypeGeometry",
"alias": "Shape",
"domain": null
},
{
"name": "Name",
"type": "esriFieldTypeString",
"alias": "Name",
"domain": null,
"length": 50
},
{
"name": "Category",
"type": "esriFieldTypeInteger",
"alias": "Category",
"domain": {
"type": "codedValue",
"name": "MosaicCatalogItemCategoryDomain",
"description": "Catalog item categories.",
"codedValues": [
{
"name": "Unknown",
"code": 0
},
{
"name": "Primary",
"code": 1
},
{
"name": "Overview",
"code": 2
},
{
"name": "Unprocessed Overview",
"code": 3
},
{
"name": "Partial Overview",
"code": 4
},
{
"name": "Uploaded",
"code": 253
},
{
"name": "Incomplete",
"code": 254
},
{
"name": "Custom",
"code": 255
}
],
"mergePolicy": "esriMPTDefaultValue",
"splitPolicy": "esriSPTDefaultValue"
}
},
{
"name": "CenterX",
"type": "esriFieldTypeDouble",
"alias": "CenterX",
"domain": null
},
{
"name": "CenterY",
"type": "esriFieldTypeDouble",
"alias": "CenterY",
"domain": null
}
],
"capabilities": "Catalog,Mensuration,Image,Metadata",
"defaultMosaicMethod": "Northwest",
"allowedMosaicMethods": "NorthWest,Center,LockRaster,ByAttribute,Nadir,Viewpoint,Seamline,None",
"sortField": "",
"sortValue": null,
"sortAscending": true,
"mosaicOperator": "First",
"maxDownloadSizeLimit": 2048,
"defaultCompressionQuality": 100,
"defaultResamplingMethod": "Bicubic",
"maxImageHeight": 4100,
"maxImageWidth": 15000,
"maxRecordCount": 1000,
"maxDownloadImageCount": 20,
"maxMosaicImageCount": 20,
"allowRasterFunction": true,
"rasterFunctionInfos": [
{
"name": "None",
"description": "",
"help": ""
}
],
"rasterTypeInfos": [
{
"name": "Raster Dataset",
"description": "Supports all ArcGIS Raster Datasets",
"help": ""
}
],
"mensurationCapabilities": "Basic",
"hasHistograms": false,
"hasColormap": false,
"hasRasterAttributeTable": false,
"minScale": 0,
"maxScale": 0,
"exportTilesAllowed": false,
"hasMultidimensions": false,
"supportsStatistics": true,
"supportsAdvancedQueries": true,
"editFieldsInfo": null,
"ownershipBasedAccessControlForRasters": null,
"allowComputeTiePoints": false,
"useStandardizedQueries": true,
"advancedQueryCapabilities": {
"useStandardizedQueries": true,
"supportsStatistics": true,
"supportsOrderBy": true,
"supportsDistinct": true,
"supportsPagination": true
},
"spatialReference": {
"wkid": 102100,
"latestWkid": 3857
}
}