{ "currentVersion": 10.81, "serviceDescription": "
Depth to Restrictive Description<\/SPAN><\/P> This raster represents the restrictive layer depth, which is a subset of the Soil Landscapes of the United States (SOLUS) (description in section below). A \"restrictive layer\" is a nearly continuous layer that has one or more physical, chemical, or thermal properties that significantly impede the movement of water and air through the soil or that restrict roots or otherwise provide an unfavorable root environment. Examples are bedrock, cemented layers, dense layers, and frozen layers. This theme presents the depth to bedrock as described in each map unit. If no restrictive layer is described in a map unit, it is represented by the \"> 150\" depth class. This attribute is actually recorded as three separate values in the database. A low value and a high value indicate the range of this attribute for the soil component. A \"representative\" value indicates the expected value of this attribute for the component. For this soil property, only the representative value is used. Soil Survey Staff, Natural Resources Conservation Service, United States Department of Agriculture. Web Soil Survey. Available online at http://websoilsurvey.nrcs.usda.gov/<\/SPAN><\/P> This raster was downloaded from USDA NRCS on 6/11/2025 from https://storage.googleapis.com/solus100pub/index.html.<\/SPAN><\/P> File name: resdept_all_cm_p.tif<\/SPAN><\/P> Property: resdept all_cm<\/SPAN><\/P> Depth: all_cm_p.tif<\/SPAN><\/P> File type: Prediction<\/SPAN><\/P> Scalar: 1<\/SPAN><\/P> Description: Depth to restriction<\/SPAN><\/P> Unis: cm<\/SPAN><\/P> URL: https://storage.googleapis.com/solus100pub/resdept<\/SPAN><\/P> Disclaimers for Use for Stormwater BMP Infiltration Infeasibility Review<\/SPAN><\/P> SOLUS provides a rough estimate of restrictive layer probability and depth as a screening prior to site-specific investigations.<\/SPAN><\/P> Values over 200 cm: <\/SPAN>Measurements of 200 cm or above in the Value field should not be used <\/SPAN>since the SOLUS project could resolve restrictive layers deeper than that. These values should be displayed as blank or 'no data'.<\/SPAN><\/P> Value_Ft field: <\/SPAN>The Value_Ft field contains the original depth Value (measured in centimeters) converted to feet. The Value_Ft was derived by dividing the centimeter values in the Value field by 30.48. Due to rounding that occurred during this conversion, Value_Ft values do not represent the resolution of the data from the original authoritative source and any citations of data derived from the Value_Ft field should reference this calculation performed by Thurston County. Values from the Value_Ft field should be rounded to the nearest tenth of a foot so as not to risk overstating the precision.<\/SPAN><\/P> For questions or additional information, please contact the County Hydrogeologist.<\/SPAN><\/P> SOLUS100 Metadata Description<\/SPAN><\/P> Soil Landscapes of the United States (SOLUS) is a national map product developed by the National Cooperative Soil Survey and focused on providing a consistent set of spatially continuous soil property maps to support large scope soil investigations and land use decisions. SOLUS maps use continuous property mapping, which predicts soil physical or chemical properties in horizontal and vertical dimensions. The soil properties are represented across a continuous range of values. Raster datasets of select soil properties can be predicted at specified depths or depth intervals. <\/SPAN><\/P> SOLUS maps use a digital soil mapping framework that combines multiple sources of soil survey data with environmental covariate data and machine learning. The SOLUS100 maps are a set of 100m spatial resolution maps that predict 20 soil properties (listed below with units) at seven depths with uncertainty estimates for the contiguous United States. <\/SPAN><\/P> 1. Very Fine Sand (%)<\/SPAN><\/P> 2. Fine Sand (%)<\/SPAN><\/P> 3. Medium Sand (%)<\/SPAN><\/P> 4. Coarse Sand (%)<\/SPAN><\/P> 5. Very Coarse Sand (%)<\/SPAN><\/P> 6. Total Sand (%)<\/SPAN><\/P> 7. Silt (%)<\/SPAN><\/P> 8. Clay (%)<\/SPAN><\/P> 9. pH<\/SPAN><\/P> 10. Soil Organic Carbon (%)<\/SPAN><\/P> 11. Calcium Carbonate Equivalent (%)<\/SPAN><\/P> 12. Gypsum Content (% by weight)<\/SPAN><\/P> 13. Electrical Conductivity (mmhos/cm)<\/SPAN><\/P> 14. Sodium Adsorption Ratio<\/SPAN><\/P> 15. Cation Exchange Capacity (meq/100g)<\/SPAN><\/P> 16. Effective Cation Exchange Capacity (meq/100g)<\/SPAN><\/P> 17. Oven Dry Bulk Density (g/cm^3)<\/SPAN><\/P> 18. Depth to Bedrock (cm)<\/SPAN><\/P> 19. Depth to Restriction (cm)<\/SPAN><\/P> 20. Rock Fragment Volume (%)<\/SPAN><\/P> Each property listed above is predicted at 0, 5, 15, 30, 60, 100, and 150cm depths. Each property-depth prediction has an estimate of uncertainty expressed as the relative prediction interval (RPI) that ranges from 0 to 1. RPI is a relative measure of uncertainty with high values being more uncertain. It is computed as the ratio of the 95% PI width to the training set 95% quantile width (97.5% quantile value - 2.5% quantile value). Values closer to 0 indicate lower uncertainty and values closer to 1 indicate higher uncertainty. Values greater than 1 indicate that the prediction at that location is outside the range of the training data used for that property at that depth. Prediction interval high and low are also provided. Property prediction and uncertainty layers follow the naming convention: <\/SPAN><\/P> 1. propertyname_depth_cm_p (predicted property values)<\/SPAN><\/P> 2. propertyname_depth_cm_rpi (relative prediction interval)<\/SPAN><\/P> 3. propertyname_depth_cm_l (prediction interval low)<\/SPAN><\/P> 4. propertyname_depth_cm_h (prediction interval high)<\/SPAN><\/P> 5. A table with layer filename, property, depth, filetype, scalar, description, and units is included with the maps: Final_Layer_Table_20231215.csv<\/SPAN><\/P> <\/P> Details on background, methodology, accuracy, uncertainty, and other results and discussion of SOLUS100 maps are available at SOLUS100 Ag Data Commons Repository and in the following publication:<\/SPAN><\/P> Nauman, T. W., Kienast-Brown, S., Roecker, S. M., Brungard, C., White, D., Philippe, J., & Thompson, J. A. (2024). Soil landscapes of the United States (SOLUS): developing predictive soil property maps of the conterminous United States using hybrid training sets. Soil Science Society of America Journal, 1\u201320. https://doi.org/10.1002/saj2.20769<\/SPAN><\/P> Soil Survey Staff. Soil Landscapes of the United States. United States Department of Agriculture, Natural Resources Conservation Service. Available online at storage.googleapis.com/solus100pub/index.html. May 22, 2024 (2024 official release).<\/SPAN><\/P><\/DIV><\/DIV><\/DIV>",
"name": "RasterLayers/DepthToRestrictive_Soil2024",
"description": " Depth to Restrictive Description<\/SPAN><\/P> This raster represents the restrictive layer depth, which is a subset of the Soil Landscapes of the United States (SOLUS) (description in section below). A \"restrictive layer\" is a nearly continuous layer that has one or more physical, chemical, or thermal properties that significantly impede the movement of water and air through the soil or that restrict roots or otherwise provide an unfavorable root environment. Examples are bedrock, cemented layers, dense layers, and frozen layers. This theme presents the depth to bedrock as described in each map unit. If no restrictive layer is described in a map unit, it is represented by the \"> 150\" depth class. This attribute is actually recorded as three separate values in the database. A low value and a high value indicate the range of this attribute for the soil component. A \"representative\" value indicates the expected value of this attribute for the component. For this soil property, only the representative value is used. Soil Survey Staff, Natural Resources Conservation Service, United States Department of Agriculture. Web Soil Survey. Available online at http://websoilsurvey.nrcs.usda.gov/<\/SPAN><\/P> This raster was downloaded from USDA NRCS on 6/11/2025 from https://storage.googleapis.com/solus100pub/index.html.<\/SPAN><\/P> File name: resdept_all_cm_p.tif<\/SPAN><\/P> Property: resdept all_cm<\/SPAN><\/P> Depth: all_cm_p.tif<\/SPAN><\/P> File type: Prediction<\/SPAN><\/P> Scalar: 1<\/SPAN><\/P> Description: Depth to restriction<\/SPAN><\/P> Unis: cm<\/SPAN><\/P> URL: https://storage.googleapis.com/solus100pub/resdept<\/SPAN><\/P> Disclaimers for Use for Stormwater BMP Infiltration Infeasibility Review<\/SPAN><\/P> SOLUS provides a rough estimate of restrictive layer probability and depth as a screening prior to site-specific investigations.<\/SPAN><\/P> Values over 200 cm: <\/SPAN>Measurements of 200 cm or above in the Value field should not be used <\/SPAN>since the SOLUS project could resolve restrictive layers deeper than that. These values should be displayed as blank or 'no data'.<\/SPAN><\/P> Value_Ft field: <\/SPAN>The Value_Ft field contains the original depth Value (measured in centimeters) converted to feet. The Value_Ft was derived by dividing the centimeter values in the Value field by 30.48. Due to rounding that occurred during this conversion, Value_Ft values do not represent the resolution of the data from the original authoritative source and any citations of data derived from the Value_Ft field should reference this calculation performed by Thurston County. Values from the Value_Ft field should be rounded to the nearest tenth of a foot so as not to risk overstating the precision.<\/SPAN><\/P> For questions or additional information, please contact the County Hydrogeologist.<\/SPAN><\/P> SOLUS100 Metadata Description<\/SPAN><\/P> Soil Landscapes of the United States (SOLUS) is a national map product developed by the National Cooperative Soil Survey and focused on providing a consistent set of spatially continuous soil property maps to support large scope soil investigations and land use decisions. SOLUS maps use continuous property mapping, which predicts soil physical or chemical properties in horizontal and vertical dimensions. The soil properties are represented across a continuous range of values. Raster datasets of select soil properties can be predicted at specified depths or depth intervals. <\/SPAN><\/P> SOLUS maps use a digital soil mapping framework that combines multiple sources of soil survey data with environmental covariate data and machine learning. The SOLUS100 maps are a set of 100m spatial resolution maps that predict 20 soil properties (listed below with units) at seven depths with uncertainty estimates for the contiguous United States. <\/SPAN><\/P> 1. Very Fine Sand (%)<\/SPAN><\/P> 2. Fine Sand (%)<\/SPAN><\/P> 3. Medium Sand (%)<\/SPAN><\/P> 4. Coarse Sand (%)<\/SPAN><\/P> 5. Very Coarse Sand (%)<\/SPAN><\/P> 6. Total Sand (%)<\/SPAN><\/P> 7. Silt (%)<\/SPAN><\/P> 8. Clay (%)<\/SPAN><\/P> 9. pH<\/SPAN><\/P> 10. Soil Organic Carbon (%)<\/SPAN><\/P> 11. Calcium Carbonate Equivalent (%)<\/SPAN><\/P> 12. Gypsum Content (% by weight)<\/SPAN><\/P> 13. Electrical Conductivity (mmhos/cm)<\/SPAN><\/P> 14. Sodium Adsorption Ratio<\/SPAN><\/P> 15. Cation Exchange Capacity (meq/100g)<\/SPAN><\/P> 16. Effective Cation Exchange Capacity (meq/100g)<\/SPAN><\/P> 17. Oven Dry Bulk Density (g/cm^3)<\/SPAN><\/P> 18. Depth to Bedrock (cm)<\/SPAN><\/P> 19. Depth to Restriction (cm)<\/SPAN><\/P> 20. Rock Fragment Volume (%)<\/SPAN><\/P> Each property listed above is predicted at 0, 5, 15, 30, 60, 100, and 150cm depths. Each property-depth prediction has an estimate of uncertainty expressed as the relative prediction interval (RPI) that ranges from 0 to 1. RPI is a relative measure of uncertainty with high values being more uncertain. It is computed as the ratio of the 95% PI width to the training set 95% quantile width (97.5% quantile value - 2.5% quantile value). Values closer to 0 indicate lower uncertainty and values closer to 1 indicate higher uncertainty. Values greater than 1 indicate that the prediction at that location is outside the range of the training data used for that property at that depth. Prediction interval high and low are also provided. Property prediction and uncertainty layers follow the naming convention: <\/SPAN><\/P> 1. propertyname_depth_cm_p (predicted property values)<\/SPAN><\/P> 2. propertyname_depth_cm_rpi (relative prediction interval)<\/SPAN><\/P> 3. propertyname_depth_cm_l (prediction interval low)<\/SPAN><\/P> 4. propertyname_depth_cm_h (prediction interval high)<\/SPAN><\/P> 5. A table with layer filename, property, depth, filetype, scalar, description, and units is included with the maps: Final_Layer_Table_20231215.csv<\/SPAN><\/P> <\/P> Details on background, methodology, accuracy, uncertainty, and other results and discussion of SOLUS100 maps are available at SOLUS100 Ag Data Commons Repository and in the following publication:<\/SPAN><\/P> Nauman, T. W., Kienast-Brown, S., Roecker, S. M., Brungard, C., White, D., Philippe, J., & Thompson, J. A. (2024). Soil landscapes of the United States (SOLUS): developing predictive soil property maps of the conterminous United States using hybrid training sets. Soil Science Society of America Journal, 1\u201320. https://doi.org/10.1002/saj2.20769<\/SPAN><\/P> Soil Survey Staff. Soil Landscapes of the United States. United States Department of Agriculture, Natural Resources Conservation Service. Available online at storage.googleapis.com/solus100pub/index.html. May 22, 2024 (2024 official release).<\/SPAN><\/P><\/DIV><\/DIV><\/DIV>",
"extent": {
"xmin": 927728.5546688288,
"ymin": 465915.08688417106,
"xmax": 1249250.2213354954,
"ymax": 745442.0868841708,
"spatialReference": {"wkt": "PROJCS[\"NAD_1983_StatePlane_Washington_South_FIPS_4602_Feet\",GEOGCS[\"GCS_North_American_1983\",DATUM[\"D_North_American_1983\",SPHEROID[\"GRS_1980\",6378137.0,298.257222101]],PRIMEM[\"Greenwich\",0.0],UNIT[\"Degree\",0.0174532925199433]],PROJECTION[\"Lambert_Conformal_Conic\"],PARAMETER[\"False_Easting\",1640416.666666667],PARAMETER[\"False_Northing\",0.0],PARAMETER[\"Central_Meridian\",-120.5],PARAMETER[\"Standard_Parallel_1\",45.83333333333334],PARAMETER[\"Standard_Parallel_2\",47.33333333333334],PARAMETER[\"Latitude_Of_Origin\",45.33333333333334],UNIT[\"Foot_US\",0.3048006096012192]],VERTCS[\"NAVD_1988\",VDATUM[\"North_American_Vertical_Datum_1988\"],PARAMETER[\"Vertical_Shift\",0.0],PARAMETER[\"Direction\",1.0],UNIT[\"Foot_US\",0.3048006096012192]]"}
},
"initialExtent": {
"xmin": 927728.5546688288,
"ymin": 465915.08688417106,
"xmax": 1249250.2213354954,
"ymax": 745442.0868841708,
"spatialReference": {"wkt": "PROJCS[\"NAD_1983_StatePlane_Washington_South_FIPS_4602_Feet\",GEOGCS[\"GCS_North_American_1983\",DATUM[\"D_North_American_1983\",SPHEROID[\"GRS_1980\",6378137.0,298.257222101]],PRIMEM[\"Greenwich\",0.0],UNIT[\"Degree\",0.0174532925199433]],PROJECTION[\"Lambert_Conformal_Conic\"],PARAMETER[\"False_Easting\",1640416.666666667],PARAMETER[\"False_Northing\",0.0],PARAMETER[\"Central_Meridian\",-120.5],PARAMETER[\"Standard_Parallel_1\",45.83333333333334],PARAMETER[\"Standard_Parallel_2\",47.33333333333334],PARAMETER[\"Latitude_Of_Origin\",45.33333333333334],UNIT[\"Foot_US\",0.3048006096012192]],VERTCS[\"NAVD_1988\",VDATUM[\"North_American_Vertical_Datum_1988\"],PARAMETER[\"Vertical_Shift\",0.0],PARAMETER[\"Direction\",1.0],UNIT[\"Foot_US\",0.3048006096012192]]"}
},
"fullExtent": {
"xmin": 927728.5546688288,
"ymin": 465915.08688417106,
"xmax": 1249250.2213354954,
"ymax": 745442.0868841708,
"spatialReference": {"wkt": "PROJCS[\"NAD_1983_StatePlane_Washington_South_FIPS_4602_Feet\",GEOGCS[\"GCS_North_American_1983\",DATUM[\"D_North_American_1983\",SPHEROID[\"GRS_1980\",6378137.0,298.257222101]],PRIMEM[\"Greenwich\",0.0],UNIT[\"Degree\",0.0174532925199433]],PROJECTION[\"Lambert_Conformal_Conic\"],PARAMETER[\"False_Easting\",1640416.666666667],PARAMETER[\"False_Northing\",0.0],PARAMETER[\"Central_Meridian\",-120.5],PARAMETER[\"Standard_Parallel_1\",45.83333333333334],PARAMETER[\"Standard_Parallel_2\",47.33333333333334],PARAMETER[\"Latitude_Of_Origin\",45.33333333333334],UNIT[\"Foot_US\",0.3048006096012192]],VERTCS[\"NAVD_1988\",VDATUM[\"North_American_Vertical_Datum_1988\"],PARAMETER[\"Vertical_Shift\",0.0],PARAMETER[\"Direction\",1.0],UNIT[\"Foot_US\",0.3048006096012192]]"}
},
"heightModelInfo": {
"heightModel": "gravity_related_height",
"vertCRS": "NAVD_1988",
"heightUnit": "us-foot"
},
"pixelSizeX": 328.0833333333332,
"pixelSizeY": 328.083333333333,
"bandCount": 1,
"pixelType": "U8",
"minPixelSize": 0,
"maxPixelSize": 0,
"copyrightText": "United States Department of Agriculture, Natural Resources Conservation Service.\nThurston County Community Planning & Economic Development\nThurston GeoData Center",
"serviceDataType": "esriImageServiceDataTypeThematic",
"minValues": [
28
],
"maxValues": [
202
],
"meanValues": [
162.22057156843445
],
"stdvValues": [
20.34340676643243
],
"objectIdField": "",
"fields": [],
"capabilities": "Image,Metadata,Mensuration",
"defaultMosaicMethod": "Center",
"allowedMosaicMethods": "",
"sortField": "",
"sortValue": null,
"sortAscending": true,
"mosaicOperator": "First",
"defaultCompressionQuality": 75,
"defaultResamplingMethod": "Nearest",
"maxImageHeight": 4100,
"maxImageWidth": 15000,
"allowRasterFunction": true,
"rasterFunctionInfos": [
{
"name": "None",
"description": "",
"help": ""
}
],
"rasterTypeInfos": [
{
"name": "Raster Dataset",
"description": "Supports all ArcGIS Raster Datasets",
"help": ""
}
],
"mensurationCapabilities": "Basic",
"hasHistograms": true,
"hasColormap": false,
"hasRasterAttributeTable": true,
"minScale": 0,
"maxScale": 0,
"exportTilesAllowed": false,
"hasMultidimensions": false,
"supportsStatistics": false,
"supportsAdvancedQueries": false,
"editFieldsInfo": null,
"ownershipBasedAccessControlForRasters": null,
"allowComputeTiePoints": false,
"useStandardizedQueries": true,
"advancedQueryCapabilities": {
"useStandardizedQueries": true,
"supportsStatistics": false,
"supportsOrderBy": false,
"supportsDistinct": false,
"supportsPagination": false
},
"spatialReference": {"wkt": "PROJCS[\"NAD_1983_StatePlane_Washington_South_FIPS_4602_Feet\",GEOGCS[\"GCS_North_American_1983\",DATUM[\"D_North_American_1983\",SPHEROID[\"GRS_1980\",6378137.0,298.257222101]],PRIMEM[\"Greenwich\",0.0],UNIT[\"Degree\",0.0174532925199433]],PROJECTION[\"Lambert_Conformal_Conic\"],PARAMETER[\"False_Easting\",1640416.666666667],PARAMETER[\"False_Northing\",0.0],PARAMETER[\"Central_Meridian\",-120.5],PARAMETER[\"Standard_Parallel_1\",45.83333333333334],PARAMETER[\"Standard_Parallel_2\",47.33333333333334],PARAMETER[\"Latitude_Of_Origin\",45.33333333333334],UNIT[\"Foot_US\",0.3048006096012192]],VERTCS[\"NAVD_1988\",VDATUM[\"North_American_Vertical_Datum_1988\"],PARAMETER[\"Vertical_Shift\",0.0],PARAMETER[\"Direction\",1.0],UNIT[\"Foot_US\",0.3048006096012192]]"}
}