{
 "currentVersion": 10.81,
 "serviceDescription": "The hydroflattened bare earth digital elevation model (DEM) represents the earth's surface with all vegetation and anthropogenic features removed. It is derived from NIR lidar data using TIN processing of the ground point returns. All rivers greater than 30 meters in width and lakes at least 150 square meters in size have been flattened to consistent elevations. Water boundary polygons were developed using an algorithm which weights Lidar-derived slopes, intensities, and return densities to detect the water's edge. Elevation values were then assigned to the water's edge from the Lidar data creating 3D breaklines enforced during model creation to flatten water bodies. Some elevation values have been interpolated across areas in the ground model where there is no elevation data (e.g. under dense vegetation). Data was processed in reference to NAD83 (CORS96), however the horizontal datum for this dataset is defined as NAD83 (HARN) as the difference is generally small and allows for greater ease of use with data in different datums. The vertical datum is NAVD88, Geoid 03, and the data is projected in Washington State Plane South. Units are in US Survey Feet. NV5 Geospatial collected the Thurston County Lidar data for Washington Department of Natural Resources between 03/27/2021 and 04/03/2021.",
 "name": "LiDAR/BareEarthDTM2021_DNR",
 "description": "The hydroflattened bare earth digital elevation model (DEM) represents the earth's surface with all vegetation and anthropogenic features removed. It is derived from NIR lidar data using TIN processing of the ground point returns. All rivers greater than 30 meters in width and lakes at least 150 square meters in size have been flattened to consistent elevations. Water boundary polygons were developed using an algorithm which weights Lidar-derived slopes, intensities, and return densities to detect the water's edge. Elevation values were then assigned to the water's edge from the Lidar data creating 3D breaklines enforced during model creation to flatten water bodies. Some elevation values have been interpolated across areas in the ground model where there is no elevation data (e.g. under dense vegetation). Data was processed in reference to NAD83 (CORS96), however the horizontal datum for this dataset is defined as NAD83 (HARN) as the difference is generally small and allows for greater ease of use with data in different datums. The vertical datum is NAVD88, Geoid 03, and the data is projected in Washington State Plane South. Units are in US Survey Feet. NV5 Geospatial collected the Thurston County Lidar data for Washington Department of Natural Resources between 03/27/2021 and 04/03/2021.",
 "extent": {
  "xmin": 965725.4996247143,
  "ymin": 524249.999858886,
  "xmax": 1214999.9996247143,
  "ymax": 659249.999858886,
  "spatialReference": {
   "wkid": 102749,
   "latestWkid": 2286
  }
 },
 "initialExtent": {
  "xmin": 965725.4996247143,
  "ymin": 524249.999858886,
  "xmax": 1214999.9996247143,
  "ymax": 659249.999858886,
  "spatialReference": {
   "wkid": 102749,
   "latestWkid": 2286
  }
 },
 "fullExtent": {
  "xmin": 965725.4996247143,
  "ymin": 524249.999858886,
  "xmax": 1214999.9996247143,
  "ymax": 659249.999858886,
  "spatialReference": {
   "wkid": 102749,
   "latestWkid": 2286
  }
 },
 "pixelSizeX": 1.5,
 "pixelSizeY": 1.5,
 "bandCount": 1,
 "pixelType": "F32",
 "minPixelSize": 0,
 "maxPixelSize": 0,
 "copyrightText": "Washington Department of Natural Resources",
 "serviceDataType": "esriImageServiceDataTypeGeneric",
 "minValues": [
  5.768269062042236
 ],
 "maxValues": [
  2942.95703125
 ],
 "meanValues": [
  538.5852991954935
 ],
 "stdvValues": [
  507.0253269922129
 ],
 "objectIdField": "OBJECTID",
 "fields": [
  {
   "name": "OBJECTID",
   "type": "esriFieldTypeOID",
   "alias": "OBJECTID",
   "domain": null
  },
  {
   "name": "Shape",
   "type": "esriFieldTypeGeometry",
   "alias": "Shape",
   "domain": null
  },
  {
   "name": "Name",
   "type": "esriFieldTypeString",
   "alias": "Name",
   "domain": null,
   "length": 200
  },
  {
   "name": "Category",
   "type": "esriFieldTypeInteger",
   "alias": "Category",
   "domain": {
    "type": "codedValue",
    "name": "MosaicCatalogItemCategoryDomain",
    "description": "Catalog item categories.",
    "codedValues": [
     {
      "name": "Unknown",
      "code": 0
     },
     {
      "name": "Primary",
      "code": 1
     },
     {
      "name": "Overview",
      "code": 2
     },
     {
      "name": "Unprocessed Overview",
      "code": 3
     },
     {
      "name": "Partial Overview",
      "code": 4
     },
     {
      "name": "Inactive",
      "code": 5
     },
     {
      "name": "Uploaded",
      "code": 253
     },
     {
      "name": "Incomplete",
      "code": 254
     },
     {
      "name": "Custom",
      "code": 255
     }
    ],
    "mergePolicy": "esriMPTDefaultValue",
    "splitPolicy": "esriSPTDefaultValue"
   }
  },
  {
   "name": "CenterX",
   "type": "esriFieldTypeDouble",
   "alias": "CenterX",
   "domain": null
  },
  {
   "name": "CenterY",
   "type": "esriFieldTypeDouble",
   "alias": "CenterY",
   "domain": null
  }
 ],
 "capabilities": "Image,Metadata,Catalog",
 "defaultMosaicMethod": "Northwest",
 "allowedMosaicMethods": "NorthWest,Center,LockRaster,ByAttribute,Nadir,Viewpoint,Seamline,None",
 "sortField": "",
 "sortValue": null,
 "sortAscending": true,
 "mosaicOperator": "First",
 "maxDownloadSizeLimit": 2048,
 "defaultCompressionQuality": 75,
 "defaultResamplingMethod": "Bilinear",
 "maxImageHeight": 4100,
 "maxImageWidth": 15000,
 "maxRecordCount": 1000,
 "maxDownloadImageCount": 20,
 "maxMosaicImageCount": 20,
 "allowRasterFunction": true,
 "rasterFunctionInfos": [
  {
   "name": "None",
   "description": "A No-Op Function.",
   "help": ""
  }
 ],
 "rasterTypeInfos": [
  {
   "name": "Raster Dataset",
   "description": "Supports all ArcGIS Raster Datasets",
   "help": ""
  }
 ],
 "mensurationCapabilities": "None",
 "hasHistograms": true,
 "hasColormap": false,
 "hasRasterAttributeTable": false,
 "minScale": 0,
 "maxScale": 0,
 "exportTilesAllowed": false,
 "hasMultidimensions": false,
 "supportsStatistics": true,
 "supportsAdvancedQueries": true,
 "editFieldsInfo": null,
 "ownershipBasedAccessControlForRasters": null,
 "allowComputeTiePoints": false,
 "useStandardizedQueries": true,
 "advancedQueryCapabilities": {
  "useStandardizedQueries": true,
  "supportsStatistics": true,
  "supportsOrderBy": true,
  "supportsDistinct": true,
  "supportsPagination": true
 },
 "spatialReference": {
  "wkid": 102749,
  "latestWkid": 2286
 }
}
