{ "currentVersion": 10.81, "serviceDescription": "

In March 2016, Quantum Spatial (QSI) was contracted by the United States Geological Survey <\/span><\/span>(USGS), in collaboration with the Washington Department of Natural Resources (WADNR), <\/span><\/span>to collect Light Detection and Ranging (LiDAR) data for the Western Washington 3DEP QL1 LiDAR project site in the state of Washington. The Western Washington 3DEP LiDAR project area covers approximately 3.5 million acres within portions of thirteen counties in the state of Washington; Whatcom, Skagit, Snohomish, Thurston, Lewis, Clark, Cowlitz, Wahkiakum, Skamania, and Grays Harbor. Data were collected to aid USGS in assessing the topographic and geophysical properties of the study area. <\/span><\/span><\/p>
For the Western Washington 3DEP LiDAR project, the monument coordinates contributed no more than the listed positional error to the geolocation of the final ground survey points and LiDAR, with 95% confidence.<\/span><\/span><\/p>
Upon completion of data acquisition, QSI processing staff initiated a suite of automated and manual techniques to process the data into the requested deliverables. Processing tasks included GPS control computations, smoothed best estimate trajectory (SBET) calculations, kinematic corrections, calculation of laser point position, sensor and data calibration for optimal relative and absolute accuracy, and LiDAR point classification (Table 9). Processing methodologies were tailored for the landscape.<\/span><\/span><\/p>
The ocean surrounding the Western Washington 3DEP site and other water bodies within the project area were flattened to a consistent water level. Bodies of water that were flattened include lakes and other closed water bodies with a surface area greater than 2 acres, all streams and rivers that are nominally wider than 100 feet, and all tidal waters bordering the project. Islands within water bodies with area greater than 1 acre were not hydroflattened, with select smaller islands and features remaining as feasible. The hydroflattening process eliminates artifacts in the digital terrain model caused by both increased variability in ranges or dropouts in laser returns due to the low reflectivity of water. <\/span><\/span><\/p>
Hydroflattening of closed water bodies was performed through a combination of automated and manual detection and adjustment techniques designed to identify water boundaries and water levels. Boundary polygons were developed using an algorithm which weights LiDAR-derived slopes, intensities, and return densities to detect the water\u2019s edge. The water edges were then manually reviewed and edited as necessary. <\/span><\/span><\/p>
Once polygons were developed the initial ground classified points falling within water polygons were reclassified as water points to omit them from the final ground model. Elevations were then obtained from the filtered LiDAR returns to create the final breaklines. Lakes were assigned a consistent elevation for an entire polygon while rivers were assigned consistent elevations on opposing banks and smoothed to ensure downstream flow through the entire river channel. <\/span><\/span><\/p>
Water boundary breaklines were then incorporated into the hydro-flattened DEM by enforcing triangle edges (adjacent to the breakline) to the elevation values of the breakline. This implementation corrected interpolation along the hard edge. Water surfaces were obtained from a TIN of the 3-D water edge breaklines resulting in the final hydroflattened model.<\/span><\/span><\/p>
<\/div><\/div><\/div>", "name": "LiDAR/BareEarthDTM2017_Hillshade_DNR", "description": "

In March 2016, Quantum Spatial (QSI) was contracted by the United States Geological Survey <\/span><\/span>(USGS), in collaboration with the Washington Department of Natural Resources (WADNR), <\/span><\/span>to collect Light Detection and Ranging (LiDAR) data for the Western Washington 3DEP QL1 LiDAR project site in the state of Washington. The Western Washington 3DEP LiDAR project area covers approximately 3.5 million acres within portions of thirteen counties in the state of Washington; Whatcom, Skagit, Snohomish, Thurston, Lewis, Clark, Cowlitz, Wahkiakum, Skamania, and Grays Harbor. Data were collected to aid USGS in assessing the topographic and geophysical properties of the study area. <\/span><\/span><\/p>
For the Western Washington 3DEP LiDAR project, the monument coordinates contributed no more than the listed positional error to the geolocation of the final ground survey points and LiDAR, with 95% confidence.<\/span><\/span><\/p>
Upon completion of data acquisition, QSI processing staff initiated a suite of automated and manual techniques to process the data into the requested deliverables. Processing tasks included GPS control computations, smoothed best estimate trajectory (SBET) calculations, kinematic corrections, calculation of laser point position, sensor and data calibration for optimal relative and absolute accuracy, and LiDAR point classification (Table 9). Processing methodologies were tailored for the landscape.<\/span><\/span><\/p>
The ocean surrounding the Western Washington 3DEP site and other water bodies within the project area were flattened to a consistent water level. Bodies of water that were flattened include lakes and other closed water bodies with a surface area greater than 2 acres, all streams and rivers that are nominally wider than 100 feet, and all tidal waters bordering the project. Islands within water bodies with area greater than 1 acre were not hydroflattened, with select smaller islands and features remaining as feasible. The hydroflattening process eliminates artifacts in the digital terrain model caused by both increased variability in ranges or dropouts in laser returns due to the low reflectivity of water. <\/span><\/span><\/p>
Hydroflattening of closed water bodies was performed through a combination of automated and manual detection and adjustment techniques designed to identify water boundaries and water levels. Boundary polygons were developed using an algorithm which weights LiDAR-derived slopes, intensities, and return densities to detect the water\u2019s edge. The water edges were then manually reviewed and edited as necessary. <\/span><\/span><\/p>
Once polygons were developed the initial ground classified points falling within water polygons were reclassified as water points to omit them from the final ground model. Elevations were then obtained from the filtered LiDAR returns to create the final breaklines. Lakes were assigned a consistent elevation for an entire polygon while rivers were assigned consistent elevations on opposing banks and smoothed to ensure downstream flow through the entire river channel. <\/span><\/span><\/p>
Water boundary breaklines were then incorporated into the hydro-flattened DEM by enforcing triangle edges (adjacent to the breakline) to the elevation values of the breakline. This implementation corrected interpolation along the hard edge. Water surfaces were obtained from a TIN of the 3-D water edge breaklines resulting in the final hydroflattened model.<\/span><\/span><\/p>
<\/div><\/div><\/div>", "extent": { "xmin": 950888.6460963935, "ymin": 522121.87119181687, "xmax": 1171253.6460963935, "ymax": 686017.8711918169, "spatialReference": { "wkid": 102749, "latestWkid": 2286 } }, "initialExtent": { "xmin": 950888.6460963935, "ymin": 522121.87119181687, "xmax": 1171253.6460963935, "ymax": 686017.8711918169, "spatialReference": { "wkid": 102749, "latestWkid": 2286 } }, "fullExtent": { "xmin": 950888.6460963935, "ymin": 522121.87119181687, "xmax": 1171253.6460963935, "ymax": 686017.8711918169, "spatialReference": { "wkid": 102749, "latestWkid": 2286 } }, "pixelSizeX": 3, "pixelSizeY": 3, "bandCount": 1, "pixelType": "U8", "minPixelSize": 0, "maxPixelSize": 0, "copyrightText": "Washington Department of Natural Resources (WADNR), United States Geological Survey (USGS), Quantum Spatial (QSI)", "serviceDataType": "esriImageServiceDataTypeGeneric", "minValues": [ 0 ], "maxValues": [ 254 ], "meanValues": [ 215.20786876583873 ], "stdvValues": [ 21.311114414859535 ], "objectIdField": "OBJECTID", "fields": [ { "name": "OBJECTID", "type": "esriFieldTypeOID", "alias": "OBJECTID", "domain": null }, { "name": "Shape", "type": "esriFieldTypeGeometry", "alias": "Shape", "domain": null }, { "name": "Name", "type": "esriFieldTypeString", "alias": "Name", "domain": null, "length": 200 }, { "name": "MinPS", "type": "esriFieldTypeDouble", "alias": "MinPS", "domain": null }, { "name": "MaxPS", "type": "esriFieldTypeDouble", "alias": "MaxPS", "domain": null }, { "name": "LowPS", "type": "esriFieldTypeDouble", "alias": "LowPS", "domain": null }, { "name": "HighPS", "type": "esriFieldTypeDouble", "alias": "HighPS", "domain": null }, { "name": "Category", "type": "esriFieldTypeInteger", "alias": "Category", "domain": { "type": "codedValue", "name": "MosaicCatalogItemCategoryDomain", "description": "Catalog item categories.", "codedValues": [ { "name": "Unknown", "code": 0 }, { "name": "Primary", "code": 1 }, { "name": "Overview", "code": 2 }, { "name": "Unprocessed Overview", "code": 3 }, { "name": "Partial Overview", "code": 4 }, { "name": "Inactive", "code": 5 }, { "name": "Uploaded", "code": 253 }, { "name": "Incomplete", "code": 254 }, { "name": "Custom", "code": 255 } ], "mergePolicy": "esriMPTDefaultValue", "splitPolicy": "esriSPTDefaultValue" } }, { "name": "Tag", "type": "esriFieldTypeString", "alias": "Tag", "domain": null, "length": 100 }, { "name": "GroupName", "type": "esriFieldTypeString", "alias": "GroupName", "domain": null, "length": 100 }, { "name": "ProductName", "type": "esriFieldTypeString", "alias": "ProductName", "domain": null, "length": 100 }, { "name": "CenterX", "type": "esriFieldTypeDouble", "alias": "CenterX", "domain": null }, { "name": "CenterY", "type": "esriFieldTypeDouble", "alias": "CenterY", "domain": null }, { "name": "ZOrder", "type": "esriFieldTypeInteger", "alias": "ZOrder", "domain": null }, { "name": "Shape_Length", "type": "esriFieldTypeDouble", "alias": "Shape_Length", "domain": null }, { "name": "Shape_Area", "type": "esriFieldTypeDouble", "alias": "Shape_Area", "domain": null } ], "capabilities": "Catalog,Image,Metadata", "defaultMosaicMethod": "Northwest", "allowedMosaicMethods": "NorthWest,Center,LockRaster,ByAttribute,Nadir,Viewpoint,Seamline,None", "sortField": "", "sortValue": null, "sortAscending": true, "mosaicOperator": "First", "maxDownloadSizeLimit": 2048, "defaultCompressionQuality": 100, "defaultResamplingMethod": "Bilinear", "maxImageHeight": 4100, "maxImageWidth": 15000, "maxRecordCount": 1000, "maxDownloadImageCount": 20, "maxMosaicImageCount": 20, "allowRasterFunction": true, "rasterFunctionInfos": [ { "name": "None", "description": "A No-Op Function.", "help": "" } ], "rasterTypeInfos": [ { "name": "Raster Dataset", "description": "Supports all ArcGIS Raster Datasets", "help": "" } ], "mensurationCapabilities": "None", "hasHistograms": true, "hasColormap": false, "hasRasterAttributeTable": false, "minScale": 0, "maxScale": 0, "exportTilesAllowed": false, "hasMultidimensions": false, "supportsStatistics": true, "supportsAdvancedQueries": true, "editFieldsInfo": null, "ownershipBasedAccessControlForRasters": null, "allowComputeTiePoints": false, "useStandardizedQueries": true, "advancedQueryCapabilities": { "useStandardizedQueries": true, "supportsStatistics": true, "supportsOrderBy": true, "supportsDistinct": true, "supportsPagination": true }, "spatialReference": { "wkid": 102749, "latestWkid": 2286 } }