{ "currentVersion": 10.81, "serviceDescription": "

Digital aerial imagery for Washington state was collected by Hexagon as part of the 2023 NAIP Imaging Program. Imagery was collected between June 17th, 2023, and October 29th, 2023, using Leica ContentMapper frame-based camera systems. The project was flown at heights ranging from 14,500 ft msl to 20,000 ft msl resulting in a nominal GSD of 15cm. Four band images were collected to support both 3-band natural color (RGB) and false color infrared (FCIR) orthoimage products. Aerotriangulation, orthorectification, ortho mosaics, and derivative photogrammetric point clouds/digital surface models were done with the Leica HxMap software. 4-band RGBN 8-bit Ortho images were created in a DOQQQ tiling scheme. Products are in the UTM map projection, NAD83 (2011) datum, in meters. <\/SPAN><\/SPAN><\/P>
<\/P>
Time_period_of_content: June 17th, 2023, to October 29th, 2023 <\/SPAN><\/SPAN><\/P>
<\/P><\/DIV><\/DIV><\/DIV>", "name": "Aerial/Photos2023_WaTech", "description": "

Digital aerial imagery for Washington state was collected by Hexagon as part of the 2023 NAIP Imaging Program. Imagery was collected between June 17th, 2023, and October 29th, 2023, using Leica ContentMapper frame-based camera systems. The project was flown at heights ranging from 14,500 ft msl to 20,000 ft msl resulting in a nominal GSD of 15cm. Four band images were collected to support both 3-band natural color (RGB) and false color infrared (FCIR) orthoimage products. Aerotriangulation, orthorectification, ortho mosaics, and derivative photogrammetric point clouds/digital surface models were done with the Leica HxMap software. 4-band RGBN 8-bit Ortho images were created in a DOQQQ tiling scheme. Products are in the UTM map projection, NAD83 (2011) datum, in meters. <\/SPAN><\/SPAN><\/P>
<\/P>
Time_period_of_content: June 17th, 2023, to October 29th, 2023 <\/SPAN><\/SPAN><\/P>
<\/P><\/DIV><\/DIV><\/DIV>", "extent": { "xmin": 961694, "ymin": 520802, "xmax": 1217969, "ymax": 697260, "spatialReference": { "wkid": 102749, "latestWkid": 2286 } }, "initialExtent": { "xmin": 961694, "ymin": 520802, "xmax": 1217969, "ymax": 697260, "spatialReference": { "wkid": 102749, "latestWkid": 2286 } }, "fullExtent": { "xmin": 961694, "ymin": 520802, "xmax": 1217969, "ymax": 697260, "spatialReference": { "wkid": 102749, "latestWkid": 2286 } }, "pixelSizeX": 1, "pixelSizeY": 1, "bandCount": 3, "pixelType": "U8", "minPixelSize": 0, "maxPixelSize": 0, "copyrightText": "HxGN Content Program", "serviceDataType": "esriImageServiceDataTypeRGB", "minValues": [ 0, 0, 0 ], "maxValues": [ 253, 255, 249 ], "meanValues": [ 104.71285411655323, 111.10621679428289, 97.43842585056586 ], "stdvValues": [ 60.12493432042499, 53.5970000942588, 48.79045614566903 ], "objectIdField": "OBJECTID", "fields": [ { "name": "OBJECTID", "type": "esriFieldTypeOID", "alias": "OBJECTID", "domain": null }, { "name": "Shape", "type": "esriFieldTypeGeometry", "alias": "Shape", "domain": null }, { "name": "Name", "type": "esriFieldTypeString", "alias": "Name", "domain": null, "length": 200 }, { "name": "Category", "type": "esriFieldTypeInteger", "alias": "Category", "domain": { "type": "codedValue", "name": "MosaicCatalogItemCategoryDomain", "description": "Catalog item categories.", "codedValues": [ { "name": "Unknown", "code": 0 }, { "name": "Primary", "code": 1 }, { "name": "Overview", "code": 2 }, { "name": "Unprocessed Overview", "code": 3 }, { "name": "Partial Overview", "code": 4 }, { "name": "Inactive", "code": 5 }, { "name": "Uploaded", "code": 253 }, { "name": "Incomplete", "code": 254 }, { "name": "Custom", "code": 255 } ], "mergePolicy": "esriMPTDefaultValue", "splitPolicy": "esriSPTDefaultValue" } }, { "name": "CenterX", "type": "esriFieldTypeDouble", "alias": "CenterX", "domain": null }, { "name": "CenterY", "type": "esriFieldTypeDouble", "alias": "CenterY", "domain": null } ], "capabilities": "Image,Metadata,Catalog", "defaultMosaicMethod": "Northwest", "allowedMosaicMethods": "NorthWest,Center,LockRaster,ByAttribute,Nadir,Viewpoint,Seamline,None", "sortField": "", "sortValue": null, "sortAscending": true, "mosaicOperator": "First", "maxDownloadSizeLimit": 2048, "defaultCompressionQuality": 75, "defaultResamplingMethod": "Bicubic", "maxImageHeight": 4100, "maxImageWidth": 15000, "maxRecordCount": 1000, "maxDownloadImageCount": 20, "maxMosaicImageCount": 20, "allowRasterFunction": true, "rasterFunctionInfos": [ { "name": "None", "description": "A No-Op Function.", "help": "" } ], "rasterTypeInfos": [ { "name": "Raster Dataset", "description": "Supports all ArcGIS Raster Datasets", "help": "" } ], "mensurationCapabilities": "None", "hasHistograms": true, "hasColormap": false, "hasRasterAttributeTable": false, "minScale": 0, "maxScale": 0, "exportTilesAllowed": false, "hasMultidimensions": false, "supportsStatistics": true, "supportsAdvancedQueries": true, "editFieldsInfo": null, "ownershipBasedAccessControlForRasters": null, "allowComputeTiePoints": false, "useStandardizedQueries": true, "advancedQueryCapabilities": { "useStandardizedQueries": true, "supportsStatistics": true, "supportsOrderBy": true, "supportsDistinct": true, "supportsPagination": true }, "spatialReference": { "wkid": 102749, "latestWkid": 2286 } }