{ "currentVersion": 10.81, "serviceDescription": "

This image data is the result of private and government entities working together.<\/SPAN><\/SPAN><\/P>
The dataset consists of tiled orthogonal imagery produced from nadir images captured by Pictometry International. Automatic aerial triangulation (AAT) was performed. The triangulated frames were rectified to a LiDAR derived DEM. Mosaicking was performed using an automatic seaming algorithm. Manual review of the AT and manually edited to eliminate seams through elevated features were conducted. <\/SPAN><\/SPAN><\/P>
<\/SPAN><\/P>
Digital orthophotos in 8-bit RGB GeoTIFF format were produced with resolutions of <\/SPAN>6<\/SPAN>\". <\/SPAN><\/P>
<\/P><\/DIV><\/DIV>", "name": "Aerial/Photos2020_6Inch", "description": "

This image data is the result of private and government entities working together.<\/SPAN><\/SPAN><\/P>
The dataset consists of tiled orthogonal imagery produced from nadir images captured by Pictometry International. Automatic aerial triangulation (AAT) was performed. The triangulated frames were rectified to a LiDAR derived DEM. Mosaicking was performed using an automatic seaming algorithm. Manual review of the AT and manually edited to eliminate seams through elevated features were conducted. <\/SPAN><\/SPAN><\/P>
<\/SPAN><\/P>
Digital orthophotos in 8-bit RGB GeoTIFF format were produced with resolutions of <\/SPAN>6<\/SPAN>\". <\/SPAN><\/P>
<\/P><\/DIV><\/DIV>", "extent": { "xmin": 965965, "ymin": 525716, "xmax": 1216600, "ymax": 686381, "spatialReference": { "wkid": 102749, "latestWkid": 2286 } }, "initialExtent": { "xmin": 965965, "ymin": 525716, "xmax": 1216600, "ymax": 686381, "spatialReference": { "wkid": 102749, "latestWkid": 2286 } }, "fullExtent": { "xmin": 965965, "ymin": 525716, "xmax": 1216600, "ymax": 686381, "spatialReference": { "wkid": 102749, "latestWkid": 2286 } }, "pixelSizeX": 0.5, "pixelSizeY": 0.5, "bandCount": 3, "pixelType": "U8", "minPixelSize": 0, "maxPixelSize": 0, "copyrightText": "Pictometry International Corp.", "serviceDataType": "esriImageServiceDataTypeRGB", "minValues": [ 0, 0, 0 ], "maxValues": [ 255, 255, 255 ], "meanValues": [ 101.577175125673, 117.66668143584069, 116.51332412341706 ], "stdvValues": [ 64.28527065597383, 48.55274490427547, 28.926941887617303 ], "objectIdField": "OBJECTID", "fields": [ { "name": "OBJECTID", "type": "esriFieldTypeOID", "alias": "OBJECTID", "domain": null }, { "name": "Shape", "type": "esriFieldTypeGeometry", "alias": "Shape", "domain": null }, { "name": "Name", "type": "esriFieldTypeString", "alias": "Name", "domain": null, "length": 200 }, { "name": "Category", "type": "esriFieldTypeInteger", "alias": "Category", "domain": { "type": "codedValue", "name": "MosaicCatalogItemCategoryDomain", "description": "Catalog item categories.", "codedValues": [ { "name": "Unknown", "code": 0 }, { "name": "Primary", "code": 1 }, { "name": "Overview", "code": 2 }, { "name": "Unprocessed Overview", "code": 3 }, { "name": "Partial Overview", "code": 4 }, { "name": "Inactive", "code": 5 }, { "name": "Uploaded", "code": 253 }, { "name": "Incomplete", "code": 254 }, { "name": "Custom", "code": 255 } ], "mergePolicy": "esriMPTDefaultValue", "splitPolicy": "esriSPTDefaultValue" } }, { "name": "CenterX", "type": "esriFieldTypeDouble", "alias": "CenterX", "domain": null }, { "name": "CenterY", "type": "esriFieldTypeDouble", "alias": "CenterY", "domain": null } ], "capabilities": "Catalog,Download,Image,Metadata", "defaultMosaicMethod": "Northwest", "allowedMosaicMethods": "NorthWest,Center,LockRaster,ByAttribute,Nadir,Viewpoint,Seamline,None", "sortField": "", "sortValue": null, "sortAscending": true, "mosaicOperator": "First", "maxDownloadSizeLimit": 2048, "defaultCompressionQuality": 100, "defaultResamplingMethod": "Bicubic", "maxImageHeight": 4100, "maxImageWidth": 15000, "maxRecordCount": 1000, "maxDownloadImageCount": 20, "maxMosaicImageCount": 20, "allowRasterFunction": true, "rasterFunctionInfos": [ { "name": "None", "description": "A No-Op Function.", "help": "" } ], "rasterTypeInfos": [ { "name": "Raster Dataset", "description": "Supports all ArcGIS Raster Datasets", "help": "" } ], "mensurationCapabilities": "None", "hasHistograms": true, "hasColormap": false, "hasRasterAttributeTable": false, "minScale": 0, "maxScale": 0, "exportTilesAllowed": false, "hasMultidimensions": false, "supportsStatistics": true, "supportsAdvancedQueries": true, "editFieldsInfo": null, "ownershipBasedAccessControlForRasters": null, "allowComputeTiePoints": false, "useStandardizedQueries": true, "advancedQueryCapabilities": { "useStandardizedQueries": true, "supportsStatistics": true, "supportsOrderBy": true, "supportsDistinct": true, "supportsPagination": true }, "spatialReference": { "wkid": 102749, "latestWkid": 2286 } }