{ "currentVersion": 10.81, "serviceDescription": "
Digital aerial imagery for Washington state was collected by Hexagon as part of the 2019 NAIP Imaging Program. Imagery was collected between June 30, 2019 and November 2, 2019 using Leica ADS100 digital camera systems. The project was flown at heights ranging from 16,500 ft msl to 20,500 ft msl resulting in a nominal GSD of 30cm. Four band images were collected to support both 3-band natural color (RGB) and false color infrared (FCIR) orthoimage products. Aerotriangulation and orthorectification were done with the Leica Xpro software package, version 6.4 and ortho mosaics were created with Inpho Orthovista 8.0. 4-band RGBN 8-bit Ortho images were created in a DOQQ tiling scheme.Date stamps for Thurston County flights are 08/05/19, 08/26/19, 10/10/19<\/span><\/p><\/div><\/div>",
"name": "Aerial/Photos2019_WaTech",
"description": " Digital aerial imagery for Washington state was collected by Hexagon as part of the 2019 NAIP Imaging Program. Imagery was collected between June 30, 2019 and November 2, 2019 using Leica ADS100 digital camera systems. The project was flown at heights ranging from 16,500 ft msl to 20,500 ft msl resulting in a nominal GSD of 30cm. Four band images were collected to support both 3-band natural color (RGB) and false color infrared (FCIR) orthoimage products. Aerotriangulation and orthorectification were done with the Leica Xpro software package, version 6.4 and ortho mosaics were created with Inpho Orthovista 8.0. 4-band RGBN 8-bit Ortho images were created in a DOQQ tiling scheme.Date stamps for Thurston County flights are 08/05/19, 08/26/19, 10/10/19<\/span><\/p><\/div><\/div>",
"extent": {
"xmin": 965966,
"ymin": 525717,
"xmax": 1216599,
"ymax": 690130,
"spatialReference": {
"wkid": 102749,
"latestWkid": 2286
}
},
"initialExtent": {
"xmin": 965966,
"ymin": 525717,
"xmax": 1216599,
"ymax": 690130,
"spatialReference": {
"wkid": 102749,
"latestWkid": 2286
}
},
"fullExtent": {
"xmin": 965966,
"ymin": 525717,
"xmax": 1216599,
"ymax": 690130,
"spatialReference": {
"wkid": 102749,
"latestWkid": 2286
}
},
"pixelSizeX": 1,
"pixelSizeY": 1,
"bandCount": 3,
"pixelType": "U8",
"minPixelSize": 0,
"maxPixelSize": 0,
"copyrightText": "HxGN Content Program",
"serviceDataType": "esriImageServiceDataTypeRGB",
"minValues": [
0,
0,
0
],
"maxValues": [
219,
217,
212
],
"meanValues": [
50.175438082924806,
73.514421493412,
70.98486562111958
],
"stdvValues": [
40.08354534979315,
37.197244089539495,
23.03172738545184
],
"objectIdField": "OBJECTID",
"fields": [
{
"name": "OBJECTID",
"type": "esriFieldTypeOID",
"alias": "OBJECTID",
"domain": null
},
{
"name": "Shape",
"type": "esriFieldTypeGeometry",
"alias": "Shape",
"domain": null
},
{
"name": "Name",
"type": "esriFieldTypeString",
"alias": "Name",
"domain": null,
"length": 200
},
{
"name": "Category",
"type": "esriFieldTypeInteger",
"alias": "Category",
"domain": {
"type": "codedValue",
"name": "MosaicCatalogItemCategoryDomain",
"description": "Catalog item categories.",
"codedValues": [
{
"name": "Unknown",
"code": 0
},
{
"name": "Primary",
"code": 1
},
{
"name": "Overview",
"code": 2
},
{
"name": "Unprocessed Overview",
"code": 3
},
{
"name": "Partial Overview",
"code": 4
},
{
"name": "Inactive",
"code": 5
},
{
"name": "Uploaded",
"code": 253
},
{
"name": "Incomplete",
"code": 254
},
{
"name": "Custom",
"code": 255
}
],
"mergePolicy": "esriMPTDefaultValue",
"splitPolicy": "esriSPTDefaultValue"
}
},
{
"name": "CenterX",
"type": "esriFieldTypeDouble",
"alias": "CenterX",
"domain": null
},
{
"name": "CenterY",
"type": "esriFieldTypeDouble",
"alias": "CenterY",
"domain": null
}
],
"capabilities": "Catalog,Image,Metadata",
"defaultMosaicMethod": "Northwest",
"allowedMosaicMethods": "NorthWest,Center,LockRaster,ByAttribute,Nadir,Viewpoint,Seamline,None",
"sortField": "",
"sortValue": null,
"sortAscending": true,
"mosaicOperator": "First",
"maxDownloadSizeLimit": 2048,
"defaultCompressionQuality": 100,
"defaultResamplingMethod": "Bicubic",
"maxImageHeight": 4100,
"maxImageWidth": 15000,
"maxRecordCount": 1000,
"maxDownloadImageCount": 20,
"maxMosaicImageCount": 20,
"allowRasterFunction": true,
"rasterFunctionInfos": [
{
"name": "None",
"description": "A No-Op Function.",
"help": ""
}
],
"rasterTypeInfos": [
{
"name": "Raster Dataset",
"description": "Supports all ArcGIS Raster Datasets",
"help": ""
}
],
"mensurationCapabilities": "None",
"hasHistograms": true,
"hasColormap": false,
"hasRasterAttributeTable": false,
"minScale": 0,
"maxScale": 0,
"exportTilesAllowed": false,
"hasMultidimensions": false,
"supportsStatistics": true,
"supportsAdvancedQueries": true,
"editFieldsInfo": null,
"ownershipBasedAccessControlForRasters": null,
"allowComputeTiePoints": false,
"useStandardizedQueries": true,
"advancedQueryCapabilities": {
"useStandardizedQueries": true,
"supportsStatistics": true,
"supportsOrderBy": true,
"supportsDistinct": true,
"supportsPagination": true
},
"spatialReference": {
"wkid": 102749,
"latestWkid": 2286
}
}