{ "currentVersion": 10.81, "serviceDescription": "
This image data is the result of private and government entities working together under the guidance of Thurston County GIS staff. Fugro USA Land, Inc. acquired Digital Imagery with sensor <\/SPAN><\/P> Leica geosystems ADS80 SH82 for areas of the Thurston County, WA project area July 3 - July 14, 2018. The project encompassed an area of approximately 806 square miles. A Leica ADS80 SH82 Digital Camera system <\/SPAN><\/P> including an inertial measuring unit (IMU) and a dual frequency airborne GPS receiver was used for the digital image acquisition. Imagery acquisition was performed July 3 - July 14, 2018 at 2400 feet AMT (3\") 4800 feet AMT (6\")<\/SPAN><\/P> (above mean terrain), with 30 percent sidelap between the flight lines. Ground control survey was provided by the True North Land Surveying and supplemented with existing control. <\/SPAN><\/P> Digital orthophotos in 8-bit RGB and 16-bit CIR (4-band)GeoTIFF format were produced with resolutions of 3\" and 6\" utilizing the ADS80 SH82 imagery and the newly-produced auto-correlated DSM (digital surface model) from the 2018 imagery. <\/SPAN><\/P> Delivery was on an External Hard Drive.<\/SPAN><\/P><\/DIV><\/DIV><\/DIV>",
"name": "Aerial/Photos2018CIR_6Inch",
"description": " This image data is the result of private and government entities working together under the guidance of Thurston County GIS staff. Fugro USA Land, Inc. acquired Digital Imagery with sensor <\/SPAN><\/P> Leica geosystems ADS80 SH82 for areas of the Thurston County, WA project area July 3 - July 14, 2018. The project encompassed an area of approximately 806 square miles. A Leica ADS80 SH82 Digital Camera system <\/SPAN><\/P> including an inertial measuring unit (IMU) and a dual frequency airborne GPS receiver was used for the digital image acquisition. Imagery acquisition was performed July 3 - July 14, 2018 at 2400 feet AMT (3\") 4800 feet AMT (6\")<\/SPAN><\/P> (above mean terrain), with 30 percent sidelap between the flight lines. Ground control survey was provided by the True North Land Surveying and supplemented with existing control. <\/SPAN><\/P> Digital orthophotos in 8-bit RGB and 16-bit CIR (4-band)GeoTIFF format were produced with resolutions of 3\" and 6\" utilizing the ADS80 SH82 imagery and the newly-produced auto-correlated DSM (digital surface model) from the 2018 imagery. <\/SPAN><\/P> Delivery was on an External Hard Drive.<\/SPAN><\/P><\/DIV><\/DIV><\/DIV>",
"extent": {
"xmin": 965966,
"ymin": 525717,
"xmax": 1216599,
"ymax": 690130,
"spatialReference": {
"wkid": 102749,
"latestWkid": 2286
}
},
"initialExtent": {
"xmin": 965966,
"ymin": 525717,
"xmax": 1216599,
"ymax": 690130,
"spatialReference": {
"wkid": 102749,
"latestWkid": 2286
}
},
"fullExtent": {
"xmin": 965966,
"ymin": 525717,
"xmax": 1216599,
"ymax": 690130,
"spatialReference": {
"wkid": 102749,
"latestWkid": 2286
}
},
"pixelSizeX": 0.5,
"pixelSizeY": 0.5,
"bandCount": 4,
"pixelType": "U16",
"minPixelSize": 0,
"maxPixelSize": 0,
"copyrightText": "Fugro USA Land, Inc.",
"serviceDataType": "esriImageServiceDataTypeGeneric",
"minValues": [
0,
0,
1768,
5484
],
"maxValues": [
64434,
65535,
65535,
65535
],
"meanValues": [
41346.20665218777,
16964.822801132523,
20457.11867722558,
17248.481568878844
],
"stdvValues": [
11732.943730653775,
8962.650615982555,
6762.758344474811,
5265.19453417349
],
"objectIdField": "OBJECTID",
"fields": [
{
"name": "OBJECTID",
"type": "esriFieldTypeOID",
"alias": "OBJECTID",
"domain": null
},
{
"name": "Shape",
"type": "esriFieldTypeGeometry",
"alias": "Shape",
"domain": null
},
{
"name": "Name",
"type": "esriFieldTypeString",
"alias": "Name",
"domain": null,
"length": 50
},
{
"name": "Category",
"type": "esriFieldTypeInteger",
"alias": "Category",
"domain": {
"type": "codedValue",
"name": "MosaicCatalogItemCategoryDomain",
"description": "Catalog item categories.",
"codedValues": [
{
"name": "Unknown",
"code": 0
},
{
"name": "Primary",
"code": 1
},
{
"name": "Overview",
"code": 2
},
{
"name": "Unprocessed Overview",
"code": 3
},
{
"name": "Partial Overview",
"code": 4
},
{
"name": "Uploaded",
"code": 253
},
{
"name": "Incomplete",
"code": 254
},
{
"name": "Custom",
"code": 255
}
],
"mergePolicy": "esriMPTDefaultValue",
"splitPolicy": "esriSPTDefaultValue"
}
},
{
"name": "CenterX",
"type": "esriFieldTypeDouble",
"alias": "CenterX",
"domain": null
},
{
"name": "CenterY",
"type": "esriFieldTypeDouble",
"alias": "CenterY",
"domain": null
}
],
"capabilities": "Catalog,Download,Image,Mensuration,Metadata",
"defaultMosaicMethod": "Northwest",
"allowedMosaicMethods": "NorthWest,Center,LockRaster,ByAttribute,Nadir,Viewpoint,Seamline,None",
"sortField": "",
"sortValue": null,
"sortAscending": true,
"mosaicOperator": "First",
"maxDownloadSizeLimit": 2048,
"defaultCompressionQuality": 100,
"defaultResamplingMethod": "Bicubic",
"maxImageHeight": 4100,
"maxImageWidth": 15000,
"maxRecordCount": 1000,
"maxDownloadImageCount": 20,
"maxMosaicImageCount": 20,
"allowRasterFunction": true,
"rasterFunctionInfos": [
{
"name": "None",
"description": "",
"help": ""
}
],
"rasterTypeInfos": [
{
"name": "Raster Dataset",
"description": "Supports all ArcGIS Raster Datasets",
"help": ""
}
],
"mensurationCapabilities": "Basic",
"hasHistograms": true,
"hasColormap": false,
"hasRasterAttributeTable": false,
"minScale": 0,
"maxScale": 0,
"exportTilesAllowed": false,
"hasMultidimensions": false,
"supportsStatistics": true,
"supportsAdvancedQueries": true,
"editFieldsInfo": null,
"ownershipBasedAccessControlForRasters": null,
"allowComputeTiePoints": false,
"useStandardizedQueries": true,
"advancedQueryCapabilities": {
"useStandardizedQueries": true,
"supportsStatistics": true,
"supportsOrderBy": true,
"supportsDistinct": true,
"supportsPagination": true
},
"spatialReference": {
"wkid": 102749,
"latestWkid": 2286
}
}